FILENAME: O4810558.SES.1139253.tif
QUADRANGLE_NAME: FLYNN CREEK SOUTH
QUADRANT: SE
WEST_LONGITUDE: -105 48 45.00000
EAST_LONGITUDE: -105 45 0.00000
NORTH_LATITUDE: 48 3 45.00000
SOUTH_LATITUDE: 48 0 0.00000
PRODUCTION_DATE: 2001 4 4
RASTER_ORDER: LEFT_RIGHT/TOP_BOTTOM
BAND_ORGANIZATION: SINGLE FILE
BAND_CONTENT: BLACK&WHITE
BAND_CONTENT: UNDEFINED
BAND_CONTENT: UNDEFINED
BITS_PER_PIXEL: 8
SAMPLES_AND_LINES: 5383 7607
HORIZONTAL_DATUM: NAD83
HORIZONTAL_COORDINATE_SYSTEM: UTM
COORDINATE_ZONE: 13
HORIZONTAL_UNITS: meters
HORIZONTAL_RESOLUTION: 1.00000
SECONDARY_HORIZONTAL_DATUM: NAD27
XY_ORIGIN: 439044.00000 5323874.00000
SECONDARY_XY_ORIGIN: 439084.10300 5323652.69600
NATION: US
STATE: MT
NW_QUAD_CORNER_XY: 439464.61000 5323566.17400
NE_QUAD_CORNER_XY: 444121.14900 5323518.93900
SE_QUAD_CORNERY_XY: 444053.53700 5316572.34800
SW_QUAD_CORNER_XY: 439391.36300 5316619.59300
SECONDARY_NW_QUAD_XY: 439462.70200 5323347.28900
SECONDARY_NE_QUAD_XY: 444119.38800 5323300.05300
SECONDARY_SE_QUAD_XY: 444051.77700 5316353.47600
SECONDARY_SW_QUAD_XY: 439389.45600 5316400.72300
RMSE_XY: 2.17000
IMAGE_SOURCE: BLACK AND WHITE FILM
SOURCE_IMAGE_ID: NAPP 9086-179
SOURCE_IMAGE_DATE: 1996 6 13
SOURCE_IMAGE_ID: NAPP 9086-178
SOURCE_IMAGE_DATE: 1996 6 13
SOURCE_DEM_DATE: 1998 0 0
AGENCY: WESTERN MAPPING CENTER (WMC)
PRODUCER: WOOLPERT LLP
PRODUCTION_SYSTEM: INTERGRAPH ISPM, ISIR
COMPRESSION: UNDEFINED
STANDARD_VERSION: 1996 12
METADATA_DATE: 2001 4 20
DATA_FILE_SIZE: 40953864
BYTE_COUNT: 5383
