FILENAME: O4810558.NES.1139251.tif
QUADRANGLE_NAME: FLYNN CREEK SOUTH
QUADRANT: NE
WEST_LONGITUDE: -105 48 45.00000
EAST_LONGITUDE: -105 45 0.00000
NORTH_LATITUDE: 48 7 30.00000
SOUTH_LATITUDE: 48 3 45.00000
PRODUCTION_DATE: 2001 4 4
RASTER_ORDER: LEFT_RIGHT/TOP_BOTTOM
BAND_ORGANIZATION: SINGLE FILE
BAND_CONTENT: BLACK&WHITE
BAND_CONTENT: UNDEFINED
BAND_CONTENT: UNDEFINED
BITS_PER_PIXEL: 8
SAMPLES_AND_LINES: 5377 7608
HORIZONTAL_DATUM: NAD83
HORIZONTAL_COORDINATE_SYSTEM: UTM
COORDINATE_ZONE: 13
HORIZONTAL_UNITS: meters
HORIZONTAL_RESOLUTION: 1.00000
SECONDARY_HORIZONTAL_DATUM: NAD27
XY_ORIGIN: 439117.00000 5330821.00000
SECONDARY_XY_ORIGIN: 439157.02700 5330599.57500
NATION: US
STATE: MT
NW_QUAD_CORNER_XY: 439537.92900 5330512.82900
NE_QUAD_CORNER_XY: 444188.82800 5330465.60500
SE_QUAD_CORNERY_XY: 444121.14900 5323518.93900
SW_QUAD_CORNER_XY: 439464.61000 5323566.17400
SECONDARY_NW_QUAD_XY: 439536.02100 5330293.93000
SECONDARY_NE_QUAD_XY: 444187.06700 5330246.70500
SECONDARY_SE_QUAD_XY: 444119.38800 5323300.05300
SECONDARY_SW_QUAD_XY: 439462.70200 5323347.28900
RMSE_XY: 1.84000
IMAGE_SOURCE: BLACK AND WHITE FILM
SOURCE_IMAGE_ID: NAPP 9086-181
SOURCE_IMAGE_DATE: 1996 6 13
SOURCE_DEM_DATE: 1998 0 0
AGENCY: WESTERN MAPPING CENTER (WMC)
PRODUCER: WOOLPERT LLP
PRODUCTION_SYSTEM: INTERGRAPH ISPM, ISIR
COMPRESSION: UNDEFINED
STANDARD_VERSION: 1996 12
METADATA_DATE: 2001 4 4
DATA_FILE_SIZE: 40913593
BYTE_COUNT: 5377
