FILENAME: O4810559.SWS.1139266.tif
QUADRANGLE_NAME: WOLF POINT
QUADRANT: SW
WEST_LONGITUDE: -105 45 0.00000
EAST_LONGITUDE: -105 41 15.00000
NORTH_LATITUDE: 48 3 45.00000
SOUTH_LATITUDE: 48 0 0.00000
PRODUCTION_DATE: 2001 4 6
RASTER_ORDER: LEFT_RIGHT/TOP_BOTTOM
BAND_ORGANIZATION: SINGLE FILE
BAND_CONTENT: BLACK&WHITE
BAND_CONTENT: UNDEFINED
BAND_CONTENT: UNDEFINED
BITS_PER_PIXEL: 8
SAMPLES_AND_LINES: 5377 7604
HORIZONTAL_DATUM: NAD83
HORIZONTAL_COORDINATE_SYSTEM: UTM
COORDINATE_ZONE: 13
HORIZONTAL_UNITS: meters
HORIZONTAL_RESOLUTION: 1.00000
SECONDARY_HORIZONTAL_DATUM: NAD27
XY_ORIGIN: 443706.00000 5323827.00000
SECONDARY_XY_ORIGIN: 443746.05400 5323605.73700
NATION: US
STATE: MT
NW_QUAD_CORNER_XY: 444121.14900 5323518.93900
NE_QUAD_CORNER_XY: 448777.69500 5323475.48400
SE_QUAD_CORNERY_XY: 448715.71800 5316528.88300
SW_QUAD_CORNER_XY: 444053.53700 5316572.34800
SECONDARY_NW_QUAD_XY: 444119.38800 5323300.05300
SECONDARY_NE_QUAD_XY: 448776.08100 5323256.59600
SECONDARY_SE_QUAD_XY: 448714.10500 5316310.01000
SECONDARY_SW_QUAD_XY: 444051.77700 5316353.47600
RMSE_XY: 1.88000
IMAGE_SOURCE: BLACK AND WHITE FILM
SOURCE_IMAGE_ID: NAPP 9086-186
SOURCE_IMAGE_DATE: 1996 6 13
SOURCE_IMAGE_ID: NAPP 9086-188
SOURCE_IMAGE_DATE: 1996 6 13
SOURCE_IMAGE_ID: NAPP 9086-178
SOURCE_IMAGE_DATE: 1996 6 13
SOURCE_DEM_DATE: 1998 0 0
AGENCY: WESTERN MAPPING CENTER (WMC)
PRODUCER: WOOLPERT LLP
PRODUCTION_SYSTEM: INTERGRAPH ISPM, ISIR
COMPRESSION: UNDEFINED
STANDARD_VERSION: 1996 12
METADATA_DATE: 2001 4 20
DATA_FILE_SIZE: 40892085
BYTE_COUNT: 5377
