FILENAME: O4810559.SES.1139265.tif
QUADRANGLE_NAME: WOLF POINT
QUADRANT: SE
WEST_LONGITUDE: -105 41 15.00000
EAST_LONGITUDE: -105 37 30.00000
NORTH_LATITUDE: 48 3 45.00000
SOUTH_LATITUDE: 48 0 0.00000
PRODUCTION_DATE: 2001 4 6
RASTER_ORDER: LEFT_RIGHT/TOP_BOTTOM
BAND_ORGANIZATION: SINGLE FILE
BAND_CONTENT: BLACK&WHITE
BAND_CONTENT: UNDEFINED
BAND_CONTENT: UNDEFINED
BITS_PER_PIXEL: 8
SAMPLES_AND_LINES: 5371 7599
HORIZONTAL_DATUM: NAD83
HORIZONTAL_COORDINATE_SYSTEM: UTM
COORDINATE_ZONE: 13
HORIZONTAL_UNITS: meters
HORIZONTAL_RESOLUTION: 1.00000
SECONDARY_HORIZONTAL_DATUM: NAD27
XY_ORIGIN: 448369.00000 5323783.00000
SECONDARY_XY_ORIGIN: 448409.00000 5323561.77500
NATION: US
STATE: MT
NW_QUAD_CORNER_XY: 448777.69500 5323475.48400
NE_QUAD_CORNER_XY: 453434.24800 5323435.80800
SE_QUAD_CORNERY_XY: 453377.90600 5316489.19800
SW_QUAD_CORNER_XY: 448715.71800 5316528.88300
SECONDARY_NW_QUAD_XY: 448776.08100 5323256.59600
SECONDARY_NE_QUAD_XY: 453432.78100 5323216.91900
SECONDARY_SE_QUAD_XY: 453376.43900 5316270.32300
SECONDARY_SW_QUAD_XY: 448714.10500 5316310.01000
RMSE_XY: 2.24000
IMAGE_SOURCE: BLACK AND WHITE FILM
SOURCE_IMAGE_ID: NAPP 9105-105
SOURCE_IMAGE_DATE: 1996 8 1
SOURCE_DEM_DATE: 1998 0 0
AGENCY: WESTERN MAPPING CENTER (WMC)
PRODUCER: WOOLPERT LLP
PRODUCTION_SYSTEM: INTERGRAPH ISPM, ISIR
COMPRESSION: UNDEFINED
STANDARD_VERSION: 1996 12
METADATA_DATE: 2001 4 6
DATA_FILE_SIZE: 40819600
BYTE_COUNT: 5371
