FILENAME: O4810559.NWS.1139264.tif
QUADRANGLE_NAME: WOLF POINT
QUADRANT: NW
WEST_LONGITUDE: -105 45 0.00000
EAST_LONGITUDE: -105 41 15.00000
NORTH_LATITUDE: 48 7 30.00000
SOUTH_LATITUDE: 48 3 45.00000
PRODUCTION_DATE: 2001 4 6
RASTER_ORDER: LEFT_RIGHT/TOP_BOTTOM
BAND_ORGANIZATION: SINGLE FILE
BAND_CONTENT: BLACK&WHITE
BAND_CONTENT: UNDEFINED
BAND_CONTENT: UNDEFINED
BITS_PER_PIXEL: 8
SAMPLES_AND_LINES: 5371 7604
HORIZONTAL_DATUM: NAD83
HORIZONTAL_COORDINATE_SYSTEM: UTM
COORDINATE_ZONE: 13
HORIZONTAL_UNITS: meters
HORIZONTAL_RESOLUTION: 1.00000
SECONDARY_HORIZONTAL_DATUM: NAD27
XY_ORIGIN: 443774.00000 5330774.00000
SECONDARY_XY_ORIGIN: 443813.97600 5330552.61200
NATION: US
STATE: MT
NW_QUAD_CORNER_XY: 444188.82800 5330465.60500
NE_QUAD_CORNER_XY: 448839.73400 5330422.16000
SE_QUAD_CORNERY_XY: 448777.69500 5323475.48400
SW_QUAD_CORNER_XY: 444121.14900 5323518.93900
SECONDARY_NW_QUAD_XY: 444187.06700 5330246.70500
SECONDARY_NE_QUAD_XY: 448838.12000 5330203.25900
SECONDARY_SE_QUAD_XY: 448776.08100 5323256.59600
SECONDARY_SW_QUAD_XY: 444119.38800 5323300.05300
RMSE_XY: 1.76000
IMAGE_SOURCE: BLACK AND WHITE FILM
SOURCE_IMAGE_ID: NAPP 9086-184
SOURCE_IMAGE_DATE: 1996 6 13
SOURCE_DEM_DATE: 1998 0 0
AGENCY: WESTERN MAPPING CENTER (WMC)
PRODUCER: WOOLPERT LLP
PRODUCTION_SYSTEM: INTERGRAPH ISPM, ISIR
COMPRESSION: UNDEFINED
STANDARD_VERSION: 1996 12
METADATA_DATE: 2001 4 6
DATA_FILE_SIZE: 40846455
BYTE_COUNT: 5371
