FILENAME: O4810559.NES.1139263.tif
QUADRANGLE_NAME: WOLF POINT
QUADRANT: NE
WEST_LONGITUDE: -105 41 15.00000
EAST_LONGITUDE: -105 37 30.00000
NORTH_LATITUDE: 48 7 30.00000
SOUTH_LATITUDE: 48 3 45.00000
PRODUCTION_DATE: 2001 4 6
RASTER_ORDER: LEFT_RIGHT/TOP_BOTTOM
BAND_ORGANIZATION: SINGLE FILE
BAND_CONTENT: BLACK&WHITE
BAND_CONTENT: UNDEFINED
BAND_CONTENT: UNDEFINED
BITS_PER_PIXEL: 8
SAMPLES_AND_LINES: 5365 7600
HORIZONTAL_DATUM: NAD83
HORIZONTAL_COORDINATE_SYSTEM: UTM
COORDINATE_ZONE: 13
HORIZONTAL_UNITS: meters
HORIZONTAL_RESOLUTION: 1.00000
SECONDARY_HORIZONTAL_DATUM: NAD27
XY_ORIGIN: 448431.00000 5330730.00000
SECONDARY_XY_ORIGIN: 448470.93100 5330508.65600
NATION: US
STATE: MT
NW_QUAD_CORNER_XY: 448839.73400 5330422.16000
NE_QUAD_CORNER_XY: 453490.64600 5330382.49300
SE_QUAD_CORNERY_XY: 453434.24800 5323435.80800
SW_QUAD_CORNER_XY: 448777.69500 5323475.48400
SECONDARY_NW_QUAD_XY: 448838.12000 5330203.25900
SECONDARY_NE_QUAD_XY: 453489.17900 5330163.59100
SECONDARY_SE_QUAD_XY: 453432.78100 5323216.91900
SECONDARY_SW_QUAD_XY: 448776.08100 5323256.59600
RMSE_XY: 1.92000
IMAGE_SOURCE: BLACK AND WHITE FILM
SOURCE_IMAGE_ID: NAPP 9105-107
SOURCE_IMAGE_DATE: 1996 8 1
SOURCE_DEM_DATE: 1998 0 0
AGENCY: WESTERN MAPPING CENTER (WMC)
PRODUCER: WOOLPERT LLP
PRODUCTION_SYSTEM: INTERGRAPH ISPM, ISIR
COMPRESSION: UNDEFINED
STANDARD_VERSION: 1996 12
METADATA_DATE: 2001 4 6
DATA_FILE_SIZE: 40779365
BYTE_COUNT: 5365
