FILENAME: O4810560.NWS.1139276.tif
QUADRANGLE_NAME: MACON
QUADRANT: NW
WEST_LONGITUDE: -105 37 30.00000
EAST_LONGITUDE: -105 33 45.00000
NORTH_LATITUDE: 48 7 30.00000
SOUTH_LATITUDE: 48 3 45.00000
PRODUCTION_DATE: 2001 4 6
RASTER_ORDER: LEFT_RIGHT/TOP_BOTTOM
BAND_ORGANIZATION: SINGLE FILE
BAND_CONTENT: BLACK&WHITE
BAND_CONTENT: UNDEFINED
BAND_CONTENT: UNDEFINED
BITS_PER_PIXEL: 8
SAMPLES_AND_LINES: 5360 7596
HORIZONTAL_DATUM: NAD83
HORIZONTAL_COORDINATE_SYSTEM: UTM
COORDINATE_ZONE: 13
HORIZONTAL_UNITS: meters
HORIZONTAL_RESOLUTION: 1.00000
SECONDARY_HORIZONTAL_DATUM: NAD27
XY_ORIGIN: 453087.00000 5330690.00000
SECONDARY_XY_ORIGIN: 453126.88800 5330468.70000
NATION: US
STATE: MT
NW_QUAD_CORNER_XY: 453490.64600 5330382.49300
NE_QUAD_CORNER_XY: 458141.56500 5330346.60400
SE_QUAD_CORNERY_XY: 458090.80700 5323399.91100
SW_QUAD_CORNER_XY: 453434.24800 5323435.80800
SECONDARY_NW_QUAD_XY: 453489.17900 5330163.59100
SECONDARY_NE_QUAD_XY: 458140.24400 5330127.70100
SECONDARY_SE_QUAD_XY: 458089.48600 5323181.02100
SECONDARY_SW_QUAD_XY: 453432.78100 5323216.91900
RMSE_XY: 2.34000
IMAGE_SOURCE: BLACK AND WHITE FILM
SOURCE_IMAGE_ID: NAPP 9094-120
SOURCE_IMAGE_DATE: 1996 7 9
SOURCE_DEM_DATE: 1998 0 0
AGENCY: WESTERN MAPPING CENTER (WMC)
PRODUCER: WOOLPERT LLP
PRODUCTION_SYSTEM: INTERGRAPH ISPM, ISIR
COMPRESSION: UNDEFINED
STANDARD_VERSION: 1996 12
METADATA_DATE: 2001 4 6
DATA_FILE_SIZE: 40719920
BYTE_COUNT: 5360
