FILENAME: O4810562.SWS.1139302.tif
QUADRANGLE_NAME: NICKWALL
QUADRANT: SW
WEST_LONGITUDE: -105 22 30.00000
EAST_LONGITUDE: -105 18 45.00000
NORTH_LATITUDE: 48 3 45.00000
SOUTH_LATITUDE: 48 0 0.00000
PRODUCTION_DATE: 2001 4 4
RASTER_ORDER: LEFT_RIGHT/TOP_BOTTOM
BAND_ORGANIZATION: SINGLE FILE
BAND_CONTENT: BLACK&WHITE
BAND_CONTENT: UNDEFINED
BAND_CONTENT: UNDEFINED
BITS_PER_PIXEL: 8
SAMPLES_AND_LINES: 5342 7581
HORIZONTAL_DATUM: NAD83
HORIZONTAL_COORDINATE_SYSTEM: UTM
COORDINATE_ZONE: 13
HORIZONTAL_UNITS: meters
HORIZONTAL_RESOLUTION: 1.00000
SECONDARY_HORIZONTAL_DATUM: NAD27
XY_ORIGIN: 471681.00000 5323623.00000
SECONDARY_XY_ORIGIN: 471720.70900 5323401.94300
NATION: US
STATE: MT
NW_QUAD_CORNER_XY: 472060.51100 5323314.89200
NE_QUAD_CORNER_XY: 476717.08800 5323294.11000
SE_QUAD_CORNERY_XY: 476688.91700 5316347.46700
SW_QUAD_CORNER_XY: 472026.70700 5316368.25400
SECONDARY_NW_QUAD_XY: 472059.63100 5323095.99900
SECONDARY_NE_QUAD_XY: 476716.35400 5323075.21600
SECONDARY_SE_QUAD_XY: 476688.18400 5316128.58800
SECONDARY_SW_QUAD_XY: 472025.82700 5316149.37600
RMSE_XY: 1.87000
IMAGE_SOURCE: BLACK AND WHITE FILM
SOURCE_IMAGE_ID: NAPP 9116-103
SOURCE_IMAGE_DATE: 1996 8 27
SOURCE_IMAGE_ID: NAPP 9116-102
SOURCE_IMAGE_DATE: 1996 8 27
SOURCE_DEM_DATE: 1998 0 0
AGENCY: WESTERN MAPPING CENTER (WMC)
PRODUCER: WOOLPERT LLP
PRODUCTION_SYSTEM: INTERGRAPH ISPM, ISIR
COMPRESSION: UNDEFINED
STANDARD_VERSION: 1996 12
METADATA_DATE: 2001 4 27
DATA_FILE_SIZE: 40503044
BYTE_COUNT: 5342
