FILENAME: O4810563.SES.1139313.tif
QUADRANGLE_NAME: POPLAR
QUADRANT: SE
WEST_LONGITUDE: -105 11 15.00000
EAST_LONGITUDE: -105 7 30.00000
NORTH_LATITUDE: 48 3 45.00000
SOUTH_LATITUDE: 48 0 0.00000
PRODUCTION_DATE: 2001 3 16
RASTER_ORDER: LEFT_RIGHT/TOP_BOTTOM
BAND_ORGANIZATION: SINGLE FILE
BAND_CONTENT: BLACK&WHITE
BAND_CONTENT: UNDEFINED
BAND_CONTENT: UNDEFINED
BITS_PER_PIXEL: 8
SAMPLES_AND_LINES: 5324 7570
HORIZONTAL_DATUM: NAD83
HORIZONTAL_COORDINATE_SYSTEM: UTM
COORDINATE_ZONE: 13
HORIZONTAL_UNITS: meters
HORIZONTAL_RESOLUTION: 1.00000
SECONDARY_HORIZONTAL_DATUM: NAD27
XY_ORIGIN: 485668.00000 5323572.00000
SECONDARY_XY_ORIGIN: 485707.53800 5323350.98000
NATION: US
STATE: MT
NW_QUAD_CORNER_XY: 486030.24800 5323263.88100
NE_QUAD_CORNER_XY: 490686.83100 5323254.43500
SE_QUAD_CORNERY_XY: 490675.56300 5316307.78300
SW_QUAD_CORNER_XY: 486013.34600 5316317.23200
SECONDARY_NW_QUAD_XY: 486029.80800 5323044.98700
SECONDARY_NE_QUAD_XY: 490686.53700 5323035.54000
SECONDARY_SE_QUAD_XY: 490675.26900 5316088.90300
SECONDARY_SW_QUAD_XY: 486012.90600 5316098.35200
RMSE_XY: 2.36000
IMAGE_SOURCE: BLACK AND WHITE FILM
SOURCE_IMAGE_ID: NAPP 9103-201
SOURCE_IMAGE_DATE: 1996 7 15
SOURCE_IMAGE_ID: NAPP 9103-200
SOURCE_IMAGE_DATE: 1996 7 15
SOURCE_IMAGE_ID: NAPP 9103-135
SOURCE_IMAGE_DATE: 1996 7 15
SOURCE_IMAGE_ID: NAPP 10725-029
SOURCE_IMAGE_DATE: 1997 9 2
SOURCE_DEM_DATE: 1998 0 0
AGENCY: WESTERN MAPPING CENTER (WMC)
PRODUCER: WOOLPERT LLP
PRODUCTION_SYSTEM: INTERGRAPH ISPM, ISIR
COMPRESSION: UNDEFINED
STANDARD_VERSION: 1996 12
METADATA_DATE: 2001 4 27
DATA_FILE_SIZE: 40308004
BYTE_COUNT: 5324
