FILENAME: O4810401.SWS.1163021.tif
QUADRANGLE_NAME: DALEVIEW
QUADRANT: SW
WEST_LONGITUDE: -105 0 0.00000
EAST_LONGITUDE: -104 56 15.00000
NORTH_LATITUDE: 48 56 15.00000
SOUTH_LATITUDE: 48 52 30.00000
PRODUCTION_DATE: 2001 9 22
RASTER_ORDER: LEFT_RIGHT/TOP_BOTTOM
BAND_ORGANIZATION: SINGLE FILE
BAND_CONTENT: BLACK&WHITE
BAND_CONTENT: UNDEFINED
BAND_CONTENT: UNDEFINED
BITS_PER_PIXEL: 8
SAMPLES_AND_LINES: 5232 7563
HORIZONTAL_DATUM: NAD83
HORIZONTAL_COORDINATE_SYSTEM: UTM
COORDINATE_ZONE: 13
HORIZONTAL_UNITS: meters
HORIZONTAL_RESOLUTION: 1.00000
SECONDARY_HORIZONTAL_DATUM: NAD27
XY_ORIGIN: 499656.00000 5420818.00000
SECONDARY_XY_ORIGIN: 499694.90300 5420596.20800
NATION: US
STATE: MT
NW_QUAD_CORNER_XY: 500000.00000 5420507.99100
NE_QUAD_CORNER_XY: 504577.12500 5420509.87300
SE_QUAD_CORNERY_XY: 504582.83600 5413562.15800
SW_QUAD_CORNER_XY: 500000.00000 5413560.27600
SECONDARY_NW_QUAD_XY: 500000.00000 5420288.98200
SECONDARY_NE_QUAD_XY: 504577.27200 5420290.86400
SECONDARY_SE_QUAD_XY: 504582.98300 5413343.15300
SECONDARY_SW_QUAD_XY: 500000.00000 5413341.27000
RMSE_XY: 4.61000
IMAGE_SOURCE: BLACK AND WHITE FILM
SOURCE_IMAGE_ID: NAPP 9103-087
SOURCE_IMAGE_DATE: 1996 7 15
SOURCE_DEM_DATE: 1998 0 0
AGENCY: WESTERN MAPPING CENTER (WMC)
PRODUCER: WOOLPERT LLP
PRODUCTION_SYSTEM: INTERGRAPH ISPM, ISIR
COMPRESSION: UNDEFINED
STANDARD_VERSION: 1996 12
METADATA_DATE: 2001 10 1
DATA_FILE_SIZE: 39574848
BYTE_COUNT: 5232
