FILENAME: O4810401.SES.1163020.tif
QUADRANGLE_NAME: DALEVIEW
QUADRANT: SE
WEST_LONGITUDE: -104 56 15.00000
EAST_LONGITUDE: -104 52 30.00000
NORTH_LATITUDE: 48 56 15.00000
SOUTH_LATITUDE: 48 52 30.00000
PRODUCTION_DATE: 2001 9 22
RASTER_ORDER: LEFT_RIGHT/TOP_BOTTOM
BAND_ORGANIZATION: SINGLE FILE
BAND_CONTENT: BLACK&WHITE
BAND_CONTENT: UNDEFINED
BAND_CONTENT: UNDEFINED
BITS_PER_PIXEL: 8
SAMPLES_AND_LINES: 5238 7567
HORIZONTAL_DATUM: NAD83
HORIZONTAL_COORDINATE_SYSTEM: UTM
COORDINATE_ZONE: 13
HORIZONTAL_UNITS: meters
HORIZONTAL_RESOLUTION: 1.00000
SECONDARY_HORIZONTAL_DATUM: NAD27
XY_ORIGIN: 504233.00000 5420824.00000
SECONDARY_XY_ORIGIN: 504271.88000 5420602.15300
NATION: US
STATE: MT
NW_QUAD_CORNER_XY: 504577.12500 5420509.87300
NE_QUAD_CORNER_XY: 509154.24900 5420515.52000
SE_QUAD_CORNERY_XY: 509165.67200 5413567.80700
SW_QUAD_CORNER_XY: 504582.83600 5413562.15800
SECONDARY_NW_QUAD_XY: 504577.27200 5420290.86400
SECONDARY_NE_QUAD_XY: 509154.54200 5420296.51100
SECONDARY_SE_QUAD_XY: 509165.96600 5413348.80100
SECONDARY_SW_QUAD_XY: 504582.98300 5413343.15300
RMSE_XY: 3.98000
IMAGE_SOURCE: BLACK AND WHITE FILM
SOURCE_IMAGE_ID: NAPP 9081-210
SOURCE_IMAGE_DATE: 1996 6 12
SOURCE_DEM_DATE: 1998 0 0
AGENCY: WESTERN MAPPING CENTER (WMC)
PRODUCER: WOOLPERT LLP
PRODUCTION_SYSTEM: INTERGRAPH ISPM, ISIR
COMPRESSION: UNDEFINED
STANDARD_VERSION: 1996 12
METADATA_DATE: 2001 10 1
DATA_FILE_SIZE: 39641184
BYTE_COUNT: 5238
