FILENAME: O4810401.NES.1163018.tif
QUADRANGLE_NAME: DALEVIEW
QUADRANT: NE
WEST_LONGITUDE: -104 56 15.00000
EAST_LONGITUDE: -104 52 30.00000
NORTH_LATITUDE: 49 0 0.00000
SOUTH_LATITUDE: 48 56 15.00000
PRODUCTION_DATE: 2001 9 22
RASTER_ORDER: LEFT_RIGHT/TOP_BOTTOM
BAND_ORGANIZATION: SINGLE FILE
BAND_CONTENT: BLACK&WHITE
BAND_CONTENT: UNDEFINED
BAND_CONTENT: UNDEFINED
BITS_PER_PIXEL: 8
SAMPLES_AND_LINES: 5233 7568
HORIZONTAL_DATUM: NAD83
HORIZONTAL_COORDINATE_SYSTEM: UTM
COORDINATE_ZONE: 13
HORIZONTAL_UNITS: meters
HORIZONTAL_RESOLUTION: 1.00000
SECONDARY_HORIZONTAL_DATUM: NAD27
XY_ORIGIN: 504227.00000 5427772.00000
SECONDARY_XY_ORIGIN: 504265.86500 5427550.15700
NATION: US
NATION: CA
STATE: MT
NW_QUAD_CORNER_XY: 504571.40800 5427457.66300
NE_QUAD_CORNER_XY: 509142.81500 5427463.30800
SE_QUAD_CORNERY_XY: 509154.24900 5420515.52000
SW_QUAD_CORNER_XY: 504577.12500 5420509.87300
SECONDARY_NW_QUAD_XY: 504571.55400 5427238.65300
SECONDARY_NE_QUAD_XY: 509143.10800 5427244.29800
SECONDARY_SE_QUAD_XY: 509154.54200 5420296.51100
SECONDARY_SW_QUAD_XY: 504577.27200 5420290.86400
RMSE_XY: 2.16000
IMAGE_SOURCE: BLACK AND WHITE FILM
SOURCE_IMAGE_ID: NAPP 9081-212
SOURCE_IMAGE_DATE: 1996 6 12
SOURCE_DEM_DATE: 1998 0 0
AGENCY: WESTERN MAPPING CENTER (WMC)
PRODUCER: WOOLPERT LLP
PRODUCTION_SYSTEM: INTERGRAPH ISPM, ISIR
COMPRESSION: UNDEFINED
STANDARD_VERSION: 1996 12
METADATA_DATE: 2001 10 1
DATA_FILE_SIZE: 39608577
BYTE_COUNT: 5233
