FILENAME: O4810402.NES.1163030.tif
QUADRANGLE_NAME: OUTLOOK
QUADRANT: NE
WEST_LONGITUDE: -104 48 45.00000
EAST_LONGITUDE: -104 45 0.00000
NORTH_LATITUDE: 49 0 0.00000
SOUTH_LATITUDE: 48 56 15.00000
PRODUCTION_DATE: 2001 9 22
RASTER_ORDER: LEFT_RIGHT/TOP_BOTTOM
BAND_ORGANIZATION: SINGLE FILE
BAND_CONTENT: BLACK&WHITE
BAND_CONTENT: UNDEFINED
BAND_CONTENT: UNDEFINED
BITS_PER_PIXEL: 8
SAMPLES_AND_LINES: 5244 7575
HORIZONTAL_DATUM: NAD83
HORIZONTAL_COORDINATE_SYSTEM: UTM
COORDINATE_ZONE: 13
HORIZONTAL_UNITS: meters
HORIZONTAL_RESOLUTION: 1.00000
SECONDARY_HORIZONTAL_DATUM: NAD27
XY_ORIGIN: 513370.00000 5427794.00000
SECONDARY_XY_ORIGIN: 513408.83200 5427571.99400
NATION: US
NATION: CA
STATE: MT
NW_QUAD_CORNER_XY: 513714.22000 5427472.71700
NE_QUAD_CORNER_XY: 518285.62300 5427485.88900
SE_QUAD_CORNERY_XY: 518308.49200 5420538.10700
SW_QUAD_CORNER_XY: 513731.37100 5420524.93100
SECONDARY_NW_QUAD_XY: 513714.66000 5427253.70700
SECONDARY_NE_QUAD_XY: 518286.21000 5427266.87900
SECONDARY_SE_QUAD_XY: 518309.07900 5420319.10000
SECONDARY_SW_QUAD_XY: 513731.81200 5420305.92300
RMSE_XY: 2.47000
IMAGE_SOURCE: BLACK AND WHITE FILM
SOURCE_IMAGE_ID: NAPP 9081-084
SOURCE_IMAGE_DATE: 1996 6 12
SOURCE_DEM_DATE: 1998 0 0
AGENCY: WESTERN MAPPING CENTER (WMC)
PRODUCER: WOOLPERT LLP
PRODUCTION_SYSTEM: INTERGRAPH ISPM, ISIR
COMPRESSION: UNDEFINED
STANDARD_VERSION: 1996 12
METADATA_DATE: 2001 10 1
DATA_FILE_SIZE: 39728544
BYTE_COUNT: 5244
