FILENAME: O4810403.SWS.1163045.tif
QUADRANGLE_NAME: PLENTYWOOD NW
QUADRANT: SW
WEST_LONGITUDE: -104 45 0.00000
EAST_LONGITUDE: -104 41 15.00000
NORTH_LATITUDE: 48 56 15.00000
SOUTH_LATITUDE: 48 52 30.00000
PRODUCTION_DATE: 2001 9 22
RASTER_ORDER: LEFT_RIGHT/TOP_BOTTOM
BAND_ORGANIZATION: SINGLE FILE
BAND_CONTENT: BLACK&WHITE
BAND_CONTENT: UNDEFINED
BAND_CONTENT: UNDEFINED
BITS_PER_PIXEL: 8
SAMPLES_AND_LINES: 5255 7579
HORIZONTAL_DATUM: NAD83
HORIZONTAL_COORDINATE_SYSTEM: UTM
COORDINATE_ZONE: 13
HORIZONTAL_UNITS: meters
HORIZONTAL_RESOLUTION: 1.00000
SECONDARY_HORIZONTAL_DATUM: NAD27
XY_ORIGIN: 517965.00000 5420864.00000
SECONDARY_XY_ORIGIN: 518003.82200 5420641.96000
NATION: US
STATE: MT
NW_QUAD_CORNER_XY: 518308.49200 5420538.10700
NE_QUAD_CORNER_XY: 522885.60900 5420555.04800
SE_QUAD_CORNERY_XY: 522914.16800 5413607.34700
SW_QUAD_CORNER_XY: 518331.33800 5413590.40100
SECONDARY_NW_QUAD_XY: 518309.07900 5420319.10000
SECONDARY_NE_QUAD_XY: 522886.34300 5420336.04100
SECONDARY_SE_QUAD_XY: 522914.90200 5413388.34300
SECONDARY_SW_QUAD_XY: 518331.92600 5413371.39600
RMSE_XY: 4.27000
IMAGE_SOURCE: BLACK AND WHITE FILM
SOURCE_IMAGE_ID: NAPP 9080-135
SOURCE_IMAGE_DATE: 1996 6 12
SOURCE_DEM_DATE: 1998 0 0
AGENCY: WESTERN MAPPING CENTER (WMC)
PRODUCER: WOOLPERT LLP
PRODUCTION_SYSTEM: INTERGRAPH ISPM, ISIR
COMPRESSION: UNDEFINED
STANDARD_VERSION: 1996 12
METADATA_DATE: 2001 10 1
DATA_FILE_SIZE: 39832900
BYTE_COUNT: 5255
