FILENAME: O4810403.NWS.1163043.tif
QUADRANGLE_NAME: PLENTYWOOD NW
QUADRANT: NW
WEST_LONGITUDE: -104 45 0.00000
EAST_LONGITUDE: -104 41 15.00000
NORTH_LATITUDE: 49 0 0.00000
SOUTH_LATITUDE: 48 56 15.00000
PRODUCTION_DATE: 2001 9 22
RASTER_ORDER: LEFT_RIGHT/TOP_BOTTOM
BAND_ORGANIZATION: SINGLE FILE
BAND_CONTENT: BLACK&WHITE
BAND_CONTENT: UNDEFINED
BAND_CONTENT: UNDEFINED
BITS_PER_PIXEL: 8
SAMPLES_AND_LINES: 5249 7578
HORIZONTAL_DATUM: NAD83
HORIZONTAL_COORDINATE_SYSTEM: UTM
COORDINATE_ZONE: 13
HORIZONTAL_UNITS: meters
HORIZONTAL_RESOLUTION: 1.00000
SECONDARY_HORIZONTAL_DATUM: NAD27
XY_ORIGIN: 517942.00000 5427811.00000
SECONDARY_XY_ORIGIN: 517980.81600 5427588.91300
NATION: US
NATION: CA
STATE: MT
NW_QUAD_CORNER_XY: 518285.62300 5427485.88900
NE_QUAD_CORNER_XY: 522857.02300 5427502.82400
SE_QUAD_CORNERY_XY: 522885.60900 5420555.04800
SW_QUAD_CORNER_XY: 518308.49200 5420538.10700
SECONDARY_NW_QUAD_XY: 518286.21000 5427266.87900
SECONDARY_NE_QUAD_XY: 522857.75700 5427283.81600
SECONDARY_SE_QUAD_XY: 522886.34300 5420336.04100
SECONDARY_SW_QUAD_XY: 518309.07900 5420319.10000
RMSE_XY: 4.14000
IMAGE_SOURCE: BLACK AND WHITE FILM
SOURCE_IMAGE_ID: NAPP 9080-133
SOURCE_IMAGE_DATE: 1996 6 12
SOURCE_DEM_DATE: 1998 0 0
AGENCY: WESTERN MAPPING CENTER (WMC)
PRODUCER: WOOLPERT LLP
PRODUCTION_SYSTEM: INTERGRAPH ISPM, ISIR
COMPRESSION: UNDEFINED
STANDARD_VERSION: 1996 12
METADATA_DATE: 2001 9 23
DATA_FILE_SIZE: 39782171
BYTE_COUNT: 5249
