FILENAME: O4810404.NWS.1163055.tif
QUADRANGLE_NAME: RAYMOND
QUADRANT: NW
WEST_LONGITUDE: -104 37 30.00000
EAST_LONGITUDE: -104 33 45.00000
NORTH_LATITUDE: 49 0 0.00000
SOUTH_LATITUDE: 48 56 15.00000
PRODUCTION_DATE: 2001 9 22
RASTER_ORDER: LEFT_RIGHT/TOP_BOTTOM
BAND_ORGANIZATION: SINGLE FILE
BAND_CONTENT: BLACK&WHITE
BAND_CONTENT: UNDEFINED
BAND_CONTENT: UNDEFINED
BITS_PER_PIXEL: 8
SAMPLES_AND_LINES: 5260 7586
HORIZONTAL_DATUM: NAD83
HORIZONTAL_COORDINATE_SYSTEM: UTM
COORDINATE_ZONE: 13
HORIZONTAL_UNITS: meters
HORIZONTAL_RESOLUTION: 1.00000
SECONDARY_HORIZONTAL_DATUM: NAD27
XY_ORIGIN: 527085.00000 5427856.00000
SECONDARY_XY_ORIGIN: 527123.72200 5427633.97800
NATION: US
NATION: CA
STATE: MT
NW_QUAD_CORNER_XY: 527428.42000 5427523.52400
NE_QUAD_CORNER_XY: 531999.81200 5427547.98700
SE_QUAD_CORNERY_XY: 532039.83200 5420600.22400
SW_QUAD_CORNER_XY: 527462.72300 5420575.75400
SECONDARY_NW_QUAD_XY: 527429.30100 5427304.51600
SECONDARY_NE_QUAD_XY: 532000.83900 5427328.97900
SECONDARY_SE_QUAD_XY: 532040.86000 5420381.21800
SECONDARY_SW_QUAD_XY: 527463.60400 5420356.74700
RMSE_XY: 4.07000
IMAGE_SOURCE: BLACK AND WHITE FILM
SOURCE_IMAGE_ID: NAPP 9082-007
SOURCE_IMAGE_DATE: 1996 6 12
SOURCE_DEM_DATE: 1998 0 0
AGENCY: WESTERN MAPPING CENTER (WMC)
PRODUCER: WOOLPERT LLP
PRODUCTION_SYSTEM: INTERGRAPH ISPM, ISIR
COMPRESSION: UNDEFINED
STANDARD_VERSION: 1996 12
METADATA_DATE: 2001 9 22
DATA_FILE_SIZE: 39907620
BYTE_COUNT: 5260
