FILENAME: O4810405.SWS.1163472.tif
QUADRANGLE_NAME: DOOLEY
QUADRANT: SW
WEST_LONGITUDE: -104 30 0.00000
EAST_LONGITUDE: -104 26 15.00000
NORTH_LATITUDE: 48 56 15.00000
SOUTH_LATITUDE: 48 52 30.00000
PRODUCTION_DATE: 2001 10 7
RASTER_ORDER: LEFT_RIGHT/TOP_BOTTOM
BAND_ORGANIZATION: SINGLE FILE
BAND_CONTENT: BLACK&WHITE
BAND_CONTENT: UNDEFINED
BAND_CONTENT: UNDEFINED
BITS_PER_PIXEL: 8
SAMPLES_AND_LINES: 5277 7594
HORIZONTAL_DATUM: NAD83
HORIZONTAL_COORDINATE_SYSTEM: UTM
COORDINATE_ZONE: 13
HORIZONTAL_UNITS: meters
HORIZONTAL_RESOLUTION: 1.00000
SECONDARY_HORIZONTAL_DATUM: NAD27
XY_ORIGIN: 536274.00000 5420969.00000
SECONDARY_XY_ORIGIN: 536312.65000 5420747.06300
NATION: US
STATE: MT
NW_QUAD_CORNER_XY: 536616.93600 5420628.45900
NE_QUAD_CORNER_XY: 541194.03400 5420660.45800
SE_QUAD_CORNERY_XY: 541245.44000 5413712.78900
SW_QUAD_CORNER_XY: 536662.63000 5413680.77900
SECONDARY_NW_QUAD_XY: 536618.11100 5420409.45400
SECONDARY_NE_QUAD_XY: 541195.35600 5420441.45500
SECONDARY_SE_QUAD_XY: 541246.76200 5413493.78800
SECONDARY_SW_QUAD_XY: 536663.80500 5413461.77700
RMSE_XY: 2.15000
IMAGE_SOURCE: BLACK AND WHITE FILM
SOURCE_IMAGE_ID: NAPP 9083-013
SOURCE_IMAGE_DATE: 1996 6 12
SOURCE_DEM_DATE: 1998 0 0
AGENCY: WESTERN MAPPING CENTER (WMC)
PRODUCER: WOOLPERT LLP
PRODUCTION_SYSTEM: INTERGRAPH ISPM, ISIR
COMPRESSION: UNDEFINED
STANDARD_VERSION: 1996 12
METADATA_DATE: 2001 10 7
DATA_FILE_SIZE: 40078815
BYTE_COUNT: 5277
