FILENAME: O4810405.NES.1163469.tif
QUADRANGLE_NAME: DOOLEY
QUADRANT: NE
WEST_LONGITUDE: -104 26 15.00000
EAST_LONGITUDE: -104 22 30.00000
NORTH_LATITUDE: 49 0 0.00000
SOUTH_LATITUDE: 48 56 15.00000
PRODUCTION_DATE: 2001 10 7
RASTER_ORDER: LEFT_RIGHT/TOP_BOTTOM
BAND_ORGANIZATION: SINGLE FILE
BAND_CONTENT: BLACK&WHITE
BAND_CONTENT: UNDEFINED
BAND_CONTENT: UNDEFINED
BITS_PER_PIXEL: 8
SAMPLES_AND_LINES: 5277 7597
HORIZONTAL_DATUM: NAD83
HORIZONTAL_COORDINATE_SYSTEM: UTM
COORDINATE_ZONE: 13
HORIZONTAL_UNITS: meters
HORIZONTAL_RESOLUTION: 1.00000
SECONDARY_HORIZONTAL_DATUM: NAD27
XY_ORIGIN: 540800.00000 5427952.00000
SECONDARY_XY_ORIGIN: 540838.53900 5427730.15600
NATION: US
NATION: CA
STATE: MT
NW_QUAD_CORNER_XY: 541142.57900 5427608.20300
NE_QUAD_CORNER_XY: 545713.95300 5427643.95700
SE_QUAD_CORNERY_XY: 545771.12600 5420696.22300
SW_QUAD_CORNER_XY: 541194.03400 5420660.45800
SECONDARY_NW_QUAD_XY: 541143.90000 5427389.19800
SECONDARY_NE_QUAD_XY: 545715.42100 5427424.95300
SECONDARY_SE_QUAD_XY: 545772.59400 5420477.22100
SECONDARY_SW_QUAD_XY: 541195.35600 5420441.45500
RMSE_XY: 2.01000
IMAGE_SOURCE: BLACK AND WHITE FILM
SOURCE_IMAGE_ID: NAPP 9103-222
SOURCE_IMAGE_DATE: 1996 7 15
SOURCE_DEM_DATE: 1998 0 0
AGENCY: WESTERN MAPPING CENTER (WMC)
PRODUCER: WOOLPERT LLP
PRODUCTION_SYSTEM: INTERGRAPH ISPM, ISIR
COMPRESSION: UNDEFINED
STANDARD_VERSION: 1996 12
METADATA_DATE: 2001 10 7
DATA_FILE_SIZE: 40094646
BYTE_COUNT: 5277
