FILENAME: O4810406.SES.1163483.tif
QUADRANGLE_NAME: PARK LAKE
QUADRANT: SE
WEST_LONGITUDE: -104 18 45.00000
EAST_LONGITUDE: -104 15 0.00000
NORTH_LATITUDE: 48 56 15.00000
SOUTH_LATITUDE: 48 52 30.00000
PRODUCTION_DATE: 2001 10 7
RASTER_ORDER: LEFT_RIGHT/TOP_BOTTOM
BAND_ORGANIZATION: SINGLE FILE
BAND_CONTENT: BLACK&WHITE
BAND_CONTENT: UNDEFINED
BAND_CONTENT: UNDEFINED
BITS_PER_PIXEL: 8
SAMPLES_AND_LINES: 5293 7604
HORIZONTAL_DATUM: NAD83
HORIZONTAL_COORDINATE_SYSTEM: UTM
COORDINATE_ZONE: 13
HORIZONTAL_UNITS: meters
HORIZONTAL_RESOLUTION: 1.00000
SECONDARY_HORIZONTAL_DATUM: NAD27
XY_ORIGIN: 550006.00000 5421087.00000
SECONDARY_XY_ORIGIN: 550044.39900 5420865.36100
NATION: US
STATE: MT
NW_QUAD_CORNER_XY: 550348.21000 5420735.75300
NE_QUAD_CORNER_XY: 554925.28600 5420779.04700
SE_QUAD_CORNERY_XY: 554993.82900 5413831.41300
SW_QUAD_CORNER_XY: 550411.04000 5413788.10500
SECONDARY_NW_QUAD_XY: 550349.82500 5420516.75100
SECONDARY_NE_QUAD_XY: 554927.04800 5420560.04700
SECONDARY_SE_QUAD_XY: 554995.59100 5413612.41500
SECONDARY_SW_QUAD_XY: 550412.65500 5413569.10700
RMSE_XY: 3.41000
IMAGE_SOURCE: BLACK AND WHITE FILM
SOURCE_IMAGE_ID: NAPP 9124-100
SOURCE_IMAGE_DATE: 1997 8 22
SOURCE_DEM_DATE: 1998 0 0
AGENCY: WESTERN MAPPING CENTER (WMC)
PRODUCER: WOOLPERT LLP
PRODUCTION_SYSTEM: INTERGRAPH ISPM, ISIR
COMPRESSION: UNDEFINED
STANDARD_VERSION: 1996 12
METADATA_DATE: 2001 10 7
DATA_FILE_SIZE: 40253265
BYTE_COUNT: 5293
