FILENAME: O4810407.SES.1163495.tif
QUADRANGLE_NAME: LONE TREE LAKE
QUADRANT: SE
WEST_LONGITUDE: -104 11 15.00000
EAST_LONGITUDE: -104 7 30.00000
NORTH_LATITUDE: 48 56 15.00000
SOUTH_LATITUDE: 48 52 30.00000
PRODUCTION_DATE: 2001 10 7
RASTER_ORDER: LEFT_RIGHT/TOP_BOTTOM
BAND_ORGANIZATION: SINGLE FILE
BAND_CONTENT: BLACK&WHITE
BAND_CONTENT: UNDEFINED
BAND_CONTENT: UNDEFINED
BITS_PER_PIXEL: 8
SAMPLES_AND_LINES: 5305 7612
HORIZONTAL_DATUM: NAD83
HORIZONTAL_COORDINATE_SYSTEM: UTM
COORDINATE_ZONE: 13
HORIZONTAL_UNITS: meters
HORIZONTAL_RESOLUTION: 1.00000
SECONDARY_HORIZONTAL_DATUM: NAD27
XY_ORIGIN: 559160.00000 5421185.00000
SECONDARY_XY_ORIGIN: 559198.27700 5420963.46000
NATION: US
STATE: MT
NW_QUAD_CORNER_XY: 559502.35300 5420826.10700
NE_QUAD_CORNER_XY: 564079.41100 5420876.93200
SE_QUAD_CORNERY_XY: 564159.37800 5413929.32600
SW_QUAD_CORNER_XY: 559576.60800 5413878.48600
SECONDARY_NW_QUAD_XY: 559504.26200 5420607.10900
SECONDARY_NE_QUAD_XY: 564081.46600 5420657.93500
SECONDARY_SE_QUAD_XY: 564161.43400 5413710.33200
SECONDARY_SW_QUAD_XY: 559578.51700 5413659.49000
RMSE_XY: 3.13000
IMAGE_SOURCE: BLACK AND WHITE FILM
SOURCE_IMAGE_ID: NAPP 9124-112
SOURCE_IMAGE_DATE: 1997 8 22
SOURCE_DEM_DATE: 1998 0 0
AGENCY: WESTERN MAPPING CENTER (WMC)
PRODUCER: WOOLPERT LLP
PRODUCTION_SYSTEM: INTERGRAPH ISPM, ISIR
COMPRESSION: UNDEFINED
STANDARD_VERSION: 1996 12
METADATA_DATE: 2001 10 7
DATA_FILE_SIZE: 40386965
BYTE_COUNT: 5305
