FILENAME: O4810407.NWS.1163494.tif
QUADRANGLE_NAME: LONE TREE LAKE
QUADRANT: NW
WEST_LONGITUDE: -104 15 0.00000
EAST_LONGITUDE: -104 11 15.00000
NORTH_LATITUDE: 49 0 0.00000
SOUTH_LATITUDE: 48 56 15.00000
PRODUCTION_DATE: 2001 10 7
RASTER_ORDER: LEFT_RIGHT/TOP_BOTTOM
BAND_ORGANIZATION: SINGLE FILE
BAND_CONTENT: BLACK&WHITE
BAND_CONTENT: UNDEFINED
BAND_CONTENT: UNDEFINED
BITS_PER_PIXEL: 8
SAMPLES_AND_LINES: 5293 7608
HORIZONTAL_DATUM: NAD83
HORIZONTAL_COORDINATE_SYSTEM: UTM
COORDINATE_ZONE: 13
HORIZONTAL_UNITS: meters
HORIZONTAL_RESOLUTION: 1.00000
SECONDARY_HORIZONTAL_DATUM: NAD27
XY_ORIGIN: 554515.00000 5428082.00000
SECONDARY_XY_ORIGIN: 554553.26600 5427860.49300
NATION: US
NATION: CA
STATE: MT
NW_QUAD_CORNER_XY: 554856.67700 5427726.75600
NE_QUAD_CORNER_XY: 559428.02600 5427773.80200
SE_QUAD_CORNERY_XY: 559502.35300 5420826.10700
SW_QUAD_CORNER_XY: 554925.28600 5420779.04700
SECONDARY_NW_QUAD_XY: 554858.43900 5427507.75500
SECONDARY_NE_QUAD_XY: 559429.93500 5427554.80200
SECONDARY_SE_QUAD_XY: 559504.26200 5420607.10900
SECONDARY_SW_QUAD_XY: 554927.04800 5420560.04700
RMSE_XY: 3.33000
IMAGE_SOURCE: BLACK AND WHITE FILM
SOURCE_IMAGE_ID: NAPP 9124-107
SOURCE_IMAGE_DATE: 1997 8 22
SOURCE_DEM_DATE: 1998 0 0
AGENCY: WESTERN MAPPING CENTER (WMC)
PRODUCER: WOOLPERT LLP
PRODUCTION_SYSTEM: INTERGRAPH ISPM, ISIR
COMPRESSION: UNDEFINED
STANDARD_VERSION: 1996 12
METADATA_DATE: 2001 10 7
DATA_FILE_SIZE: 40274437
BYTE_COUNT: 5293
