FILENAME: O4810407.NES.1163493.tif
QUADRANGLE_NAME: LONE TREE LAKE
QUADRANT: NE
WEST_LONGITUDE: -104 11 15.00000
EAST_LONGITUDE: -104 7 30.00000
NORTH_LATITUDE: 49 0 0.00000
SOUTH_LATITUDE: 48 56 15.00000
PRODUCTION_DATE: 2001 10 7
RASTER_ORDER: LEFT_RIGHT/TOP_BOTTOM
BAND_ORGANIZATION: SINGLE FILE
BAND_CONTENT: BLACK&WHITE
BAND_CONTENT: UNDEFINED
BAND_CONTENT: UNDEFINED
BITS_PER_PIXEL: 8
SAMPLES_AND_LINES: 5299 7612
HORIZONTAL_DATUM: NAD83
HORIZONTAL_COORDINATE_SYSTEM: UTM
COORDINATE_ZONE: 13
HORIZONTAL_UNITS: meters
HORIZONTAL_RESOLUTION: 1.00000
SECONDARY_HORIZONTAL_DATUM: NAD27
XY_ORIGIN: 559086.00000 5428133.00000
SECONDARY_XY_ORIGIN: 559124.22800 5427911.49200
NATION: US
NATION: CA
STATE: MT
NW_QUAD_CORNER_XY: 559428.02600 5427773.80200
NE_QUAD_CORNER_XY: 563999.36600 5427824.61100
SE_QUAD_CORNERY_XY: 564079.41100 5420876.93200
SW_QUAD_CORNER_XY: 559502.35300 5420826.10700
SECONDARY_NW_QUAD_XY: 559429.93500 5427554.80200
SECONDARY_NE_QUAD_XY: 564001.42100 5427605.61300
SECONDARY_SE_QUAD_XY: 564081.46600 5420657.93500
SECONDARY_SW_QUAD_XY: 559504.26200 5420607.10900
RMSE_XY: 3.55000
IMAGE_SOURCE: BLACK AND WHITE FILM
SOURCE_IMAGE_ID: NAPP 9124-114
SOURCE_IMAGE_DATE: 1997 8 22
SOURCE_DEM_DATE: 1998 0 0
AGENCY: WESTERN MAPPING CENTER (WMC)
PRODUCER: WOOLPERT LLP
PRODUCTION_SYSTEM: INTERGRAPH ISPM, ISIR
COMPRESSION: UNDEFINED
STANDARD_VERSION: 1996 12
METADATA_DATE: 2001 10 7
DATA_FILE_SIZE: 40341287
BYTE_COUNT: 5299
