FILENAME: O4810408.NWS.1163505.tif
QUADRANGLE_NAME: WESTBY NORTH
QUADRANT: NW
WEST_LONGITUDE: -104 7 30.00000
EAST_LONGITUDE: -104 3 45.00000
NORTH_LATITUDE: 49 0 0.00000
SOUTH_LATITUDE: 48 56 15.00000
PRODUCTION_DATE: 2001 10 7
RASTER_ORDER: LEFT_RIGHT/TOP_BOTTOM
BAND_ORGANIZATION: SINGLE FILE
BAND_CONTENT: BLACK&WHITE
BAND_CONTENT: UNDEFINED
BAND_CONTENT: UNDEFINED
BITS_PER_PIXEL: 8
SAMPLES_AND_LINES: 5304 7616
HORIZONTAL_DATUM: NAD83
HORIZONTAL_COORDINATE_SYSTEM: UTM
COORDINATE_ZONE: 13
HORIZONTAL_UNITS: METERS
HORIZONTAL_RESOLUTION: 1.00000
SECONDARY_HORIZONTAL_DATUM: NAD27
XY_ORIGIN: 563658.00000 5428187.00000
SECONDARY_XY_ORIGIN: 563696.19500 5427965.48300
NATION: US
NATION: CA
STATE: MT
NW_QUAD_CORNER_XY: 563999.36600 5427824.61100
NE_QUAD_CORNER_XY: 568570.69500 5427879.18500
SE_QUAD_CORNERY_XY: 568656.45800 5420931.52200
SW_QUAD_CORNER_XY: 564079.41100 5420876.93200
SECONDARY_NW_QUAD_XY: 564001.42100 5427605.61300
SECONDARY_NE_QUAD_XY: 568572.89700 5427660.18900
SECONDARY_SE_QUAD_XY: 568658.66000 5420712.52700
SECONDARY_SW_QUAD_XY: 564081.46600 5420657.93500
RMSE_XY: 4.12000
IMAGE_SOURCE: BLACK AND WHITE FILM
SOURCE_IMAGE_ID: NAPP 8631-004
SOURCE_IMAGE_DATE: 1995 7 28
SOURCE_DEM_DATE: 1998 0 0
AGENCY: WESTERN MAPPING CENTER (WMC)
PRODUCER: WOOLPERT LLP
PRODUCTION_SYSTEM: INTERGRAPH ISPM, ISIR
COMPRESSION: UNDEFINED
STANDARD_VERSION: 1996 12
METADATA_DATE: 2001 10 8
DATA_FILE_SIZE: 40400568
BYTE_COUNT: 5304
