FILENAME: O4810409.NWS.1163023.tif
QUADRANGLE_NAME: REDSTONE
QUADRANT: NW
WEST_LONGITUDE: -105 0 0.00000
EAST_LONGITUDE: -104 56 15.00000
NORTH_LATITUDE: 48 52 30.00000
SOUTH_LATITUDE: 48 48 45.00000
PRODUCTION_DATE: 2001 9 22
RASTER_ORDER: LEFT_RIGHT/TOP_BOTTOM
BAND_ORGANIZATION: SINGLE FILE
BAND_CONTENT: BLACK&WHITE
BAND_CONTENT: UNDEFINED
BAND_CONTENT: UNDEFINED
BITS_PER_PIXEL: 8
SAMPLES_AND_LINES: 5238 7564
HORIZONTAL_DATUM: NAD83
HORIZONTAL_COORDINATE_SYSTEM: UTM
COORDINATE_ZONE: 13
HORIZONTAL_UNITS: meters
HORIZONTAL_RESOLUTION: 1.00000
SECONDARY_HORIZONTAL_DATUM: NAD27
XY_ORIGIN: 499656.00000 5413871.00000
SECONDARY_XY_ORIGIN: 499694.92300 5413649.18900
NATION: US
STATE: MT
NW_QUAD_CORNER_XY: 500000.00000 5413560.27600
NE_QUAD_CORNER_XY: 504582.83600 5413562.15800
SE_QUAD_CORNERY_XY: 504588.54300 5406614.52000
SW_QUAD_CORNER_XY: 500000.00000 5406612.63600
SECONDARY_NW_QUAD_XY: 500000.00000 5413341.27000
SECONDARY_NE_QUAD_XY: 504582.98300 5413343.15300
SECONDARY_SE_QUAD_XY: 504588.68900 5406395.51700
SECONDARY_SW_QUAD_XY: 500000.00000 5406393.63400
RMSE_XY: 3.68000
IMAGE_SOURCE: BLACK AND WHITE FILM
SOURCE_IMAGE_ID: NAPP 9103-089
SOURCE_IMAGE_DATE: 1996 7 15
SOURCE_DEM_DATE: 1998 0 0
AGENCY: WESTERN MAPPING CENTER (WMC)
PRODUCER: WOOLPERT LLP
PRODUCTION_SYSTEM: INTERGRAPH ISPM, ISIR
COMPRESSION: UNDEFINED
STANDARD_VERSION: 1996 12
METADATA_DATE: 2001 9 22
DATA_FILE_SIZE: 39625470
BYTE_COUNT: 5238
