FILENAME: O4810410.SES.1163036.tif
QUADRANGLE_NAME: ARCHER
QUADRANT: SE
WEST_LONGITUDE: -104 48 45.00000
EAST_LONGITUDE: -104 45 0.00000
NORTH_LATITUDE: 48 48 45.00000
SOUTH_LATITUDE: 48 45 0.00000
PRODUCTION_DATE: 2001 9 22
RASTER_ORDER: LEFT_RIGHT/TOP_BOTTOM
BAND_ORGANIZATION: SINGLE FILE
BAND_CONTENT: BLACK&WHITE
BAND_CONTENT: UNDEFINED
BAND_CONTENT: UNDEFINED
BITS_PER_PIXEL: 8
SAMPLES_AND_LINES: 5260 7574
HORIZONTAL_DATUM: NAD83
HORIZONTAL_COORDINATE_SYSTEM: UTM
COORDINATE_ZONE: 13
HORIZONTAL_UNITS: meters
HORIZONTAL_RESOLUTION: 1.00000
SECONDARY_HORIZONTAL_DATUM: NAD27
XY_ORIGIN: 513422.00000 5406951.00000
SECONDARY_XY_ORIGIN: 513460.86100 5406729.09500
NATION: US
STATE: MT
NW_QUAD_CORNER_XY: 513765.62500 5406629.58700
NE_QUAD_CORNER_XY: 518354.16300 5406642.77100
SE_QUAD_CORNERY_XY: 518376.96600 5399695.21600
SW_QUAD_CORNER_XY: 513782.72700 5399682.02800
SECONDARY_NW_QUAD_XY: 513766.06500 5406410.58500
SECONDARY_NE_QUAD_XY: 518354.75000 5406423.76900
SECONDARY_SE_QUAD_XY: 518377.55300 5399476.21900
SECONDARY_SW_QUAD_XY: 513783.16700 5399463.03100
RMSE_XY: 4.84000
IMAGE_SOURCE: BLACK AND WHITE FILM
SOURCE_IMAGE_ID: NAPP 9081-078
SOURCE_IMAGE_DATE: 1996 6 12
SOURCE_DEM_DATE: 1998 0 0
AGENCY: WESTERN MAPPING CENTER (WMC)
PRODUCER: WOOLPERT LLP
PRODUCTION_SYSTEM: INTERGRAPH ISPM, ISIR
COMPRESSION: UNDEFINED
STANDARD_VERSION: 1996 12
METADATA_DATE: 2001 9 22
DATA_FILE_SIZE: 39844500
BYTE_COUNT: 5260
