FILENAME: O4810410.NES.1163034.tif
QUADRANGLE_NAME: ARCHER
QUADRANT: NE
WEST_LONGITUDE: -104 48 45.00000
EAST_LONGITUDE: -104 45 0.00000
NORTH_LATITUDE: 48 52 30.00000
SOUTH_LATITUDE: 48 48 45.00000
PRODUCTION_DATE: 2001 9 22
RASTER_ORDER: LEFT_RIGHT/TOP_BOTTOM
BAND_ORGANIZATION: SINGLE FILE
BAND_CONTENT: BLACK&WHITE
BAND_CONTENT: UNDEFINED
BAND_CONTENT: UNDEFINED
BITS_PER_PIXEL: 8
SAMPLES_AND_LINES: 5255 7575
HORIZONTAL_DATUM: NAD83
HORIZONTAL_COORDINATE_SYSTEM: UTM
COORDINATE_ZONE: 13
HORIZONTAL_UNITS: meters
HORIZONTAL_RESOLUTION: 1.00000
SECONDARY_HORIZONTAL_DATUM: NAD27
XY_ORIGIN: 513405.00000 5413899.00000
SECONDARY_XY_ORIGIN: 513443.85100 5413677.05900
NATION: US
STATE: MT
NW_QUAD_CORNER_XY: 513748.50600 5413577.22100
NE_QUAD_CORNER_XY: 518331.33800 5413590.40100
SE_QUAD_CORNERY_XY: 518354.16300 5406642.77100
SW_QUAD_CORNER_XY: 513765.62500 5406629.58700
SECONDARY_NW_QUAD_XY: 513748.94700 5413358.21600
SECONDARY_NE_QUAD_XY: 518331.92600 5413371.39600
SECONDARY_SE_QUAD_XY: 518354.75000 5406423.76900
SECONDARY_SW_QUAD_XY: 513766.06500 5406410.58500
RMSE_XY: 2.98000
IMAGE_SOURCE: BLACK AND WHITE FILM
SOURCE_IMAGE_ID: NAPP 9081-080
SOURCE_IMAGE_DATE: 1996 6 12
SOURCE_DEM_DATE: 1998 0 0
AGENCY: WESTERN MAPPING CENTER (WMC)
PRODUCER: WOOLPERT LLP
PRODUCTION_SYSTEM: INTERGRAPH ISPM, ISIR
COMPRESSION: UNDEFINED
STANDARD_VERSION: 1996 12
METADATA_DATE: 2001 9 22
DATA_FILE_SIZE: 39811880
BYTE_COUNT: 5255
