FILENAME: O4810411.SWS.1163049.tif
QUADRANGLE_NAME: PLENTYWOOD SW
QUADRANT: SW
WEST_LONGITUDE: -104 45 0.00000
EAST_LONGITUDE: -104 41 15.00000
NORTH_LATITUDE: 48 48 45.00000
SOUTH_LATITUDE: 48 45 0.00000
PRODUCTION_DATE: 2001 9 22
RASTER_ORDER: LEFT_RIGHT/TOP_BOTTOM
BAND_ORGANIZATION: SINGLE FILE
BAND_CONTENT: BLACK&WHITE
BAND_CONTENT: UNDEFINED
BAND_CONTENT: UNDEFINED
BITS_PER_PIXEL: 8
SAMPLES_AND_LINES: 5267 7578
HORIZONTAL_DATUM: NAD83
HORIZONTAL_COORDINATE_SYSTEM: UTM
COORDINATE_ZONE: 13
HORIZONTAL_UNITS: meters
HORIZONTAL_RESOLUTION: 1.00000
SECONDARY_HORIZONTAL_DATUM: NAD27
XY_ORIGIN: 518010.00000 5406968.00000
SECONDARY_XY_ORIGIN: 518048.83400 5406746.06800
NATION: US
STATE: MT
NW_QUAD_CORNER_XY: 518354.16300 5406642.77100
NE_QUAD_CORNER_XY: 522942.69800 5406659.72200
SE_QUAD_CORNERY_XY: 522971.20200 5399712.17200
SW_QUAD_CORNER_XY: 518376.96600 5399695.21600
SECONDARY_NW_QUAD_XY: 518354.75000 5406423.76900
SECONDARY_NE_QUAD_XY: 522943.43300 5406440.72100
SECONDARY_SE_QUAD_XY: 522971.93600 5399493.17500
SECONDARY_SW_QUAD_XY: 518377.55300 5399476.21900
RMSE_XY: 4.17000
IMAGE_SOURCE: BLACK AND WHITE FILM
SOURCE_IMAGE_ID: NAPP 9080-139
SOURCE_IMAGE_DATE: 1996 6 12
SOURCE_DEM_DATE: 1998 0 0
AGENCY: WESTERN MAPPING CENTER (WMC)
PRODUCER: WOOLPERT LLP
PRODUCTION_SYSTEM: INTERGRAPH ISPM, ISIR
COMPRESSION: UNDEFINED
STANDARD_VERSION: 1996 12
METADATA_DATE: 2001 9 22
DATA_FILE_SIZE: 39918593
BYTE_COUNT: 5267
