FILENAME: O4810413.NES.1163473.tif
QUADRANGLE_NAME: DOOLEY SW
QUADRANT: NE
WEST_LONGITUDE: -104 26 15.00000
EAST_LONGITUDE: -104 22 30.00000
NORTH_LATITUDE: 48 52 30.00000
SOUTH_LATITUDE: 48 48 45.00000
PRODUCTION_DATE: 2001 10 7
RASTER_ORDER: LEFT_RIGHT/TOP_BOTTOM
BAND_ORGANIZATION: SINGLE FILE
BAND_CONTENT: BLACK&WHITE
BAND_CONTENT: UNDEFINED
BAND_CONTENT: UNDEFINED
BITS_PER_PIXEL: 8
SAMPLES_AND_LINES: 5288 7597
HORIZONTAL_DATUM: NAD83
HORIZONTAL_COORDINATE_SYSTEM: UTM
COORDINATE_ZONE: 13
HORIZONTAL_UNITS: meters
HORIZONTAL_RESOLUTION: 1.00000
SECONDARY_HORIZONTAL_DATUM: NAD27
XY_ORIGIN: 540903.00000 5414057.00000
SECONDARY_XY_ORIGIN: 540941.59900 5413835.16600
NATION: US
STATE: MT
NW_QUAD_CORNER_XY: 541245.44000 5413712.78900
NE_QUAD_CORNER_XY: 545828.24400 5413748.56400
SE_QUAD_CORNERY_XY: 545885.30700 5406800.97900
SW_QUAD_CORNER_XY: 541296.79700 5406765.19400
SECONDARY_NW_QUAD_XY: 541246.76200 5413493.78800
SECONDARY_NE_QUAD_XY: 545829.71200 5413529.56400
SECONDARY_SE_QUAD_XY: 545886.77500 5406581.98300
SECONDARY_SW_QUAD_XY: 541298.11800 5406546.19600
RMSE_XY: 3.84000
IMAGE_SOURCE: BLACK AND WHITE FILM
SOURCE_IMAGE_ID: NAPP 9108-114
SOURCE_IMAGE_DATE: 1996 8 8
SOURCE_DEM_DATE: 1998 0 0
AGENCY: WESTERN MAPPING CENTER (WMC)
PRODUCER: WOOLPERT LLP
PRODUCTION_SYSTEM: INTERGRAPH ISPM, ISIR
COMPRESSION: UNDEFINED
STANDARD_VERSION: 1996 12
METADATA_DATE: 2001 10 7
DATA_FILE_SIZE: 40178224
BYTE_COUNT: 5288
