FILENAME: O4810414.NES.1163485.tif
QUADRANGLE_NAME: DOOLEY SE
QUADRANT: NE
WEST_LONGITUDE: -104 18 45.00000
EAST_LONGITUDE: -104 15 0.00000
NORTH_LATITUDE: 48 52 30.00000
SOUTH_LATITUDE: 48 48 45.00000
PRODUCTION_DATE: 2001 10 7
RASTER_ORDER: LEFT_RIGHT/TOP_BOTTOM
BAND_ORGANIZATION: SINGLE FILE
BAND_CONTENT: BLACK&WHITE
BAND_CONTENT: UNDEFINED
BAND_CONTENT: UNDEFINED
BITS_PER_PIXEL: 8
SAMPLES_AND_LINES: 5299 7604
HORIZONTAL_DATUM: NAD83
HORIZONTAL_COORDINATE_SYSTEM: UTM
COORDINATE_ZONE: 13
HORIZONTAL_UNITS: meters
HORIZONTAL_RESOLUTION: 1.00000
SECONDARY_HORIZONTAL_DATUM: NAD27
XY_ORIGIN: 550069.00000 5414139.00000
SECONDARY_XY_ORIGIN: 550107.44400 5413917.34200
NATION: US
STATE: MT
NW_QUAD_CORNER_XY: 550411.04000 5413788.10500
NE_QUAD_CORNER_XY: 554993.82900 5413831.41300
SE_QUAD_CORNERY_XY: 555062.30600 5406883.85200
SW_QUAD_CORNER_XY: 550473.81000 5406840.53200
SECONDARY_NW_QUAD_XY: 550412.65500 5413569.10700
SECONDARY_NE_QUAD_XY: 554995.59100 5413612.41500
SECONDARY_SE_QUAD_XY: 555064.06700 5406664.85800
SECONDARY_SW_QUAD_XY: 550475.42500 5406621.53700
RMSE_XY: 2.32000
IMAGE_SOURCE: BLACK AND WHITE FILM
SOURCE_IMAGE_ID: NAPP 9124-098
SOURCE_IMAGE_DATE: 1997 8 22
SOURCE_DEM_DATE: 1998 0 0
AGENCY: WESTERN MAPPING CENTER (WMC)
PRODUCER: WOOLPERT LLP
PRODUCTION_SYSTEM: INTERGRAPH ISPM, ISIR
COMPRESSION: UNDEFINED
STANDARD_VERSION: 1996 12
METADATA_DATE: 2001 10 7
DATA_FILE_SIZE: 40298895
BYTE_COUNT: 5299
