FILENAME: O4810415.SWS.1163500.tif
QUADRANGLE_NAME: TADPOLE LAKE
QUADRANT: SW
WEST_LONGITUDE: -104 15 0.00000
EAST_LONGITUDE: -104 11 15.00000
NORTH_LATITUDE: 48 48 45.00000
SOUTH_LATITUDE: 48 45 0.00000
PRODUCTION_DATE: 2001 10 7
RASTER_ORDER: LEFT_RIGHT/TOP_BOTTOM
BAND_ORGANIZATION: SINGLE FILE
BAND_CONTENT: BLACK&WHITE
BAND_CONTENT: UNDEFINED
BAND_CONTENT: UNDEFINED
BITS_PER_PIXEL: 8
SAMPLES_AND_LINES: 5310 7608
HORIZONTAL_DATUM: NAD83
HORIZONTAL_COORDINATE_SYSTEM: UTM
COORDINATE_ZONE: 13
HORIZONTAL_UNITS: meters
HORIZONTAL_RESOLUTION: 1.00000
SECONDARY_HORIZONTAL_DATUM: NAD27
XY_ORIGIN: 554720.00000 5407239.00000
SECONDARY_XY_ORIGIN: 554758.41900 5407017.39900
NATION: US
STATE: MT
NW_QUAD_CORNER_XY: 555062.30600 5406883.85200
NE_QUAD_CORNER_XY: 559650.79200 5406930.94000
SE_QUAD_CORNERY_XY: 559724.90400 5399983.46700
SW_QUAD_CORNER_XY: 555130.71600 5399936.36600
SECONDARY_NW_QUAD_XY: 555064.06700 5406664.85800
SECONDARY_NE_QUAD_XY: 559652.70100 5406711.94700
SECONDARY_SE_QUAD_XY: 559726.81300 5399764.47900
SECONDARY_SW_QUAD_XY: 555132.47800 5399717.37700
RMSE_XY: 3.08000
IMAGE_SOURCE: BLACK AND WHITE FILM
SOURCE_IMAGE_ID: NAPP 9123-174
SOURCE_IMAGE_DATE: 1997 8 3
SOURCE_DEM_DATE: 1998 0 0
AGENCY: WESTERN MAPPING CENTER (WMC)
PRODUCER: WOOLPERT LLP
PRODUCTION_SYSTEM: INTERGRAPH ISPM, ISIR
COMPRESSION: UNDEFINED
STANDARD_VERSION: 1996 12
METADATA_DATE: 2001 10 7
DATA_FILE_SIZE: 40403790
BYTE_COUNT: 5310
