FILENAME: O4810415.SES.1163499.tif
QUADRANGLE_NAME: TADPOLE LAKE
QUADRANT: SE
WEST_LONGITUDE: -104 11 15.00000
EAST_LONGITUDE: -104 7 30.00000
NORTH_LATITUDE: 48 48 45.00000
SOUTH_LATITUDE: 48 45 0.00000
PRODUCTION_DATE: 2001 10 7
RASTER_ORDER: LEFT_RIGHT/TOP_BOTTOM
BAND_ORGANIZATION: SINGLE FILE
BAND_CONTENT: BLACK&WHITE
BAND_CONTENT: UNDEFINED
BAND_CONTENT: UNDEFINED
BITS_PER_PIXEL: 8
SAMPLES_AND_LINES: 5316 7612
HORIZONTAL_DATUM: NAD83
HORIZONTAL_COORDINATE_SYSTEM: UTM
COORDINATE_ZONE: 13
HORIZONTAL_UNITS: meters
HORIZONTAL_RESOLUTION: 1.00000
SECONDARY_HORIZONTAL_DATUM: NAD27
XY_ORIGIN: 559309.00000 5407290.00000
SECONDARY_XY_ORIGIN: 559347.38000 5407068.39400
NATION: US
STATE: MT
NW_QUAD_CORNER_XY: 559650.79200 5406930.94000
NE_QUAD_CORNER_XY: 564239.26900 5406981.79400
SE_QUAD_CORNERY_XY: 564319.08300 5400034.33700
SW_QUAD_CORNER_XY: 559724.90400 5399983.46700
SECONDARY_NW_QUAD_XY: 559652.70100 5406711.94700
SECONDARY_NE_QUAD_XY: 564241.32500 5406762.80400
SECONDARY_SE_QUAD_XY: 564321.13900 5399815.35000
SECONDARY_SW_QUAD_XY: 559726.81300 5399764.47900
RMSE_XY: 2.59000
IMAGE_SOURCE: BLACK AND WHITE FILM
SOURCE_IMAGE_ID: NAPP 9123-159
SOURCE_IMAGE_DATE: 1997 8 3
SOURCE_DEM_DATE: 1998 0 0
AGENCY: WESTERN MAPPING CENTER (WMC)
PRODUCER: WOOLPERT LLP
PRODUCTION_SYSTEM: INTERGRAPH ISPM, ISIR
COMPRESSION: UNDEFINED
STANDARD_VERSION: 1996 12
METADATA_DATE: 2001 10 7
DATA_FILE_SIZE: 40470708
BYTE_COUNT: 5316
