FILENAME: O4810417.SWS.1163029.tif
QUADRANGLE_NAME: SOO NW
QUADRANT: SW
WEST_LONGITUDE: -105 0 0.00000
EAST_LONGITUDE: -104 56 15.00000
NORTH_LATITUDE: 48 41 15.00000
SOUTH_LATITUDE: 48 37 30.00000
PRODUCTION_DATE: 2001 9 22
RASTER_ORDER: LEFT_RIGHT/TOP_BOTTOM
BAND_ORGANIZATION: SINGLE FILE
BAND_CONTENT: BLACK&WHITE
BAND_CONTENT: UNDEFINED
BAND_CONTENT: UNDEFINED
BITS_PER_PIXEL: 8
SAMPLES_AND_LINES: 5256 7563
HORIZONTAL_DATUM: NAD83
HORIZONTAL_COORDINATE_SYSTEM: UTM
COORDINATE_ZONE: 13
HORIZONTAL_UNITS: meters
HORIZONTAL_RESOLUTION: 1.00000
SECONDARY_HORIZONTAL_DATUM: NAD27
XY_ORIGIN: 499655.00000 5393028.00000
SECONDARY_XY_ORIGIN: 499693.99600 5392806.22900
NATION: US
STATE: MT
NW_QUAD_CORNER_XY: 500000.00000 5392717.58500
NE_QUAD_CORNER_XY: 504599.93800 5392719.47000
SE_QUAD_CORNERY_XY: 504605.62800 5385772.05800
SW_QUAD_CORNER_XY: 500000.00000 5385770.17300
SECONDARY_NW_QUAD_XY: 500000.00000 5392498.59200
SECONDARY_NE_QUAD_XY: 504600.08500 5392500.47700
SECONDARY_SE_QUAD_XY: 504605.77500 5385553.07100
SECONDARY_SW_QUAD_XY: 500000.00000 5385551.18600
RMSE_XY: 5.62000
IMAGE_SOURCE: BLACK AND WHITE FILM
SOURCE_IMAGE_ID: NAPP 9103-095
SOURCE_IMAGE_DATE: 1996 7 15
SOURCE_DEM_DATE: 1998 0 0
AGENCY: WESTERN MAPPING CENTER (WMC)
PRODUCER: WOOLPERT LLP
PRODUCTION_SYSTEM: INTERGRAPH ISPM, ISIR
COMPRESSION: UNDEFINED
STANDARD_VERSION: 1996 12
METADATA_DATE: 2001 9 22
DATA_FILE_SIZE: 39756384
BYTE_COUNT: 5256
