FILENAME: O4810417.NWS.1163027.tif
QUADRANGLE_NAME: SOO NW
QUADRANT: NW
WEST_LONGITUDE: -105 0 0.00000
EAST_LONGITUDE: -104 56 15.00000
NORTH_LATITUDE: 48 45 0.00000
SOUTH_LATITUDE: 48 41 15.00000
PRODUCTION_DATE: 2001 9 22
RASTER_ORDER: LEFT_RIGHT/TOP_BOTTOM
BAND_ORGANIZATION: SINGLE FILE
BAND_CONTENT: BLACK&WHITE
BAND_CONTENT: UNDEFINED
BAND_CONTENT: UNDEFINED
BITS_PER_PIXEL: 8
SAMPLES_AND_LINES: 5249 7563
HORIZONTAL_DATUM: NAD83
HORIZONTAL_COORDINATE_SYSTEM: UTM
COORDINATE_ZONE: 13
HORIZONTAL_UNITS: meters
HORIZONTAL_RESOLUTION: 1.00000
SECONDARY_HORIZONTAL_DATUM: NAD27
XY_ORIGIN: 499656.00000 5399975.00000
SECONDARY_XY_ORIGIN: 499694.96200 5399753.15300
NATION: US
STATE: MT
NW_QUAD_CORNER_XY: 500000.00000 5399665.07300
NE_QUAD_CORNER_XY: 504594.24300 5399666.95700
SE_QUAD_CORNERY_XY: 504599.93800 5392719.47000
SW_QUAD_CORNER_XY: 500000.00000 5392717.58500
SECONDARY_NW_QUAD_XY: 500000.00000 5399446.07500
SECONDARY_NE_QUAD_XY: 504594.39000 5399447.95900
SECONDARY_SE_QUAD_XY: 504600.08500 5392500.47700
SECONDARY_SW_QUAD_XY: 500000.00000 5392498.59200
RMSE_XY: 4.02000
IMAGE_SOURCE: BLACK AND WHITE FILM
SOURCE_IMAGE_ID: NAPP 9103-093
SOURCE_IMAGE_DATE: 1996 7 15
SOURCE_DEM_DATE: 1998 0 0
AGENCY: WESTERN MAPPING CENTER (WMC)
PRODUCER: WOOLPERT LLP
PRODUCTION_SYSTEM: INTERGRAPH ISPM, ISIR
COMPRESSION: UNDEFINED
STANDARD_VERSION: 1996 12
METADATA_DATE: 2001 9 22
DATA_FILE_SIZE: 39703436
BYTE_COUNT: 5249
