FILENAME: O4810417.NES.1163026.tif
QUADRANGLE_NAME: SOO NW
QUADRANT: NE
WEST_LONGITUDE: -104 56 15.00000
EAST_LONGITUDE: -104 52 30.00000
NORTH_LATITUDE: 48 45 0.00000
SOUTH_LATITUDE: 48 41 15.00000
PRODUCTION_DATE: 2001 9 22
RASTER_ORDER: LEFT_RIGHT/TOP_BOTTOM
BAND_ORGANIZATION: SINGLE FILE
BAND_CONTENT: BLACK&WHITE
BAND_CONTENT: UNDEFINED
BAND_CONTENT: UNDEFINED
BITS_PER_PIXEL: 8
SAMPLES_AND_LINES: 5255 7567
HORIZONTAL_DATUM: NAD83
HORIZONTAL_COORDINATE_SYSTEM: UTM
COORDINATE_ZONE: 13
HORIZONTAL_UNITS: meters
HORIZONTAL_RESOLUTION: 1.00000
SECONDARY_HORIZONTAL_DATUM: NAD27
XY_ORIGIN: 504250.00000 5399981.00000
SECONDARY_XY_ORIGIN: 504288.93000 5399759.14700
NATION: US
STATE: MT
NW_QUAD_CORNER_XY: 504594.24300 5399666.95700
NE_QUAD_CORNER_XY: 509188.48600 5399672.60900
SE_QUAD_CORNERY_XY: 509199.87600 5392725.12300
SW_QUAD_CORNER_XY: 504599.93800 5392719.47000
SECONDARY_NW_QUAD_XY: 504594.39000 5399447.95900
SECONDARY_NE_QUAD_XY: 509188.77900 5399453.61100
SECONDARY_SE_QUAD_XY: 509200.17000 5392506.13000
SECONDARY_SW_QUAD_XY: 504600.08500 5392500.47700
RMSE_XY: 2.57000
IMAGE_SOURCE: BLACK AND WHITE FILM
SOURCE_IMAGE_ID: NAPP 10725-067
SOURCE_IMAGE_DATE: 1997 9 2
SOURCE_DEM_DATE: 1998 0 0
AGENCY: WESTERN MAPPING CENTER (WMC)
PRODUCER: WOOLPERT LLP
PRODUCTION_SYSTEM: INTERGRAPH ISPM, ISIR
COMPRESSION: UNDEFINED
STANDARD_VERSION: 1996 12
METADATA_DATE: 2001 9 23
DATA_FILE_SIZE: 39769840
BYTE_COUNT: 5255
