FILENAME: O4810419.SWS.1163053.tif
QUADRANGLE_NAME: KISLER BUTTE
QUADRANT: SW
WEST_LONGITUDE: -104 45 0.00000
EAST_LONGITUDE: -104 41 15.00000
NORTH_LATITUDE: 48 41 15.00000
SOUTH_LATITUDE: 48 37 30.00000
PRODUCTION_DATE: 2001 9 22
RASTER_ORDER: LEFT_RIGHT/TOP_BOTTOM
BAND_ORGANIZATION: SINGLE FILE
BAND_CONTENT: BLACK&WHITE
BAND_CONTENT: UNDEFINED
BAND_CONTENT: UNDEFINED
BITS_PER_PIXEL: 8
SAMPLES_AND_LINES: 5278 7578
HORIZONTAL_DATUM: NAD83
HORIZONTAL_COORDINATE_SYSTEM: UTM
COORDINATE_ZONE: 13
HORIZONTAL_UNITS: meters
HORIZONTAL_RESOLUTION: 1.00000
SECONDARY_HORIZONTAL_DATUM: NAD27
XY_ORIGIN: 518056.00000 5393073.00000
SECONDARY_XY_ORIGIN: 518094.87600 5392851.21100
NATION: US
STATE: MT
NW_QUAD_CORNER_XY: 518399.74600 5392747.73700
NE_QUAD_CORNER_XY: 522999.67800 5392764.69700
SE_QUAD_CORNERY_XY: 523028.12600 5385817.29800
SW_QUAD_CORNER_XY: 518422.50500 5385800.33300
SECONDARY_NW_QUAD_XY: 518400.33400 5392528.74500
SECONDARY_NE_QUAD_XY: 523000.41200 5392545.70600
SECONDARY_SE_QUAD_XY: 523028.86000 5385598.31300
SECONDARY_SW_QUAD_XY: 518423.09200 5385581.34700
RMSE_XY: 4.78000
IMAGE_SOURCE: BLACK AND WHITE FILM
SOURCE_IMAGE_ID: NAPP 9080-143
SOURCE_IMAGE_DATE: 1996 6 12
SOURCE_DEM_DATE: 1998 0 0
AGENCY: WESTERN MAPPING CENTER (WMC)
PRODUCER: WOOLPERT LLP
PRODUCTION_SYSTEM: INTERGRAPH ISPM, ISIR
COMPRESSION: UNDEFINED
STANDARD_VERSION: 1996 12
METADATA_DATE: 2001 9 22
DATA_FILE_SIZE: 40001962
BYTE_COUNT: 5278
