FILENAME: O4810419.NES.1163050.tif
QUADRANGLE_NAME: KISLER BUTTE
QUADRANT: NE
WEST_LONGITUDE: -104 41 15.00000
EAST_LONGITUDE: -104 37 30.00000
NORTH_LATITUDE: 48 45 0.00000
SOUTH_LATITUDE: 48 41 15.00000
PRODUCTION_DATE: 2001 9 22
RASTER_ORDER: LEFT_RIGHT/TOP_BOTTOM
BAND_ORGANIZATION: SINGLE FILE
BAND_CONTENT: BLACK&WHITE
BAND_CONTENT: UNDEFINED
BAND_CONTENT: UNDEFINED
BITS_PER_PIXEL: 8
SAMPLES_AND_LINES: 5277 7582
HORIZONTAL_DATUM: NAD83
HORIZONTAL_COORDINATE_SYSTEM: UTM
COORDINATE_ZONE: 13
HORIZONTAL_UNITS: meters
HORIZONTAL_RESOLUTION: 1.00000
SECONDARY_HORIZONTAL_DATUM: NAD27
XY_ORIGIN: 522628.00000 5400041.00000
SECONDARY_XY_ORIGIN: 522666.81000 5399819.12300
NATION: US
STATE: MT
NW_QUAD_CORNER_XY: 522971.20200 5399712.17200
NE_QUAD_CORNER_XY: 527565.43400 5399732.89500
SE_QUAD_CORNERY_XY: 527599.60600 5392785.42600
SW_QUAD_CORNER_XY: 522999.67800 5392764.69700
SECONDARY_NW_QUAD_XY: 522971.93600 5399493.17500
SECONDARY_NE_QUAD_XY: 527566.31500 5399513.89900
SECONDARY_SE_QUAD_XY: 527600.48600 5392566.43600
SECONDARY_SW_QUAD_XY: 523000.41200 5392545.70600
RMSE_XY: 2.31000
IMAGE_SOURCE: BLACK AND WHITE FILM
SOURCE_IMAGE_ID: NAPP 9080-120
SOURCE_IMAGE_DATE: 1996 6 12
SOURCE_DEM_DATE: 1998 0 0
AGENCY: WESTERN MAPPING CENTER (WMC)
PRODUCER: WOOLPERT LLP
PRODUCTION_SYSTEM: INTERGRAPH ISPM, ISIR
COMPRESSION: UNDEFINED
STANDARD_VERSION: 1996 12
METADATA_DATE: 2001 9 22
DATA_FILE_SIZE: 40015491
BYTE_COUNT: 5277
