FILENAME: O4810420.SWS.1163065.tif
QUADRANGLE_NAME: SHIPPE CANYON
QUADRANT: SW
WEST_LONGITUDE: -104 37 30.00000
EAST_LONGITUDE: -104 33 45.00000
NORTH_LATITUDE: 48 41 15.00000
SOUTH_LATITUDE: 48 37 30.00000
PRODUCTION_DATE: 2001 9 27
RASTER_ORDER: LEFT_RIGHT/TOP_BOTTOM
BAND_ORGANIZATION: SINGLE FILE
BAND_CONTENT: BLACK&WHITE
BAND_CONTENT: UNDEFINED
BAND_CONTENT: UNDEFINED
BITS_PER_PIXEL: 8
SAMPLES_AND_LINES: 5289 7585
HORIZONTAL_DATUM: NAD83
HORIZONTAL_COORDINATE_SYSTEM: UTM
COORDINATE_ZONE: 13
HORIZONTAL_UNITS: meters
HORIZONTAL_RESOLUTION: 1.00000
SECONDARY_HORIZONTAL_DATUM: NAD27
XY_ORIGIN: 527256.00000 5393118.00000
SECONDARY_XY_ORIGIN: 527294.81900 5392896.21400
NATION: US
STATE: MT
NW_QUAD_CORNER_XY: 527599.60600 5392785.42600
NE_QUAD_CORNER_XY: 532199.52900 5392809.92500
SE_QUAD_CORNERY_XY: 532239.35700 5385862.53800
SW_QUAD_CORNER_XY: 527633.74400 5385838.03300
SECONDARY_NW_QUAD_XY: 527600.48600 5392566.43600
SECONDARY_NE_QUAD_XY: 532200.55700 5392590.93500
SECONDARY_SE_QUAD_XY: 532240.38500 5385643.55400
SECONDARY_SW_QUAD_XY: 527634.62400 5385619.04800
RMSE_XY: 3.06000
IMAGE_SOURCE: BLACK AND WHITE FILM
SOURCE_IMAGE_ID: NAPP 9082-017
SOURCE_IMAGE_DATE: 1996 6 12
SOURCE_DEM_DATE: 1998 0 0
AGENCY: WESTERN MAPPING CENTER (WMC)
PRODUCER: WOOLPERT LLP
PRODUCTION_SYSTEM: INTERGRAPH ISPM, ISIR
COMPRESSION: UNDEFINED
STANDARD_VERSION: 1996 12
METADATA_DATE: 2001 9 27
DATA_FILE_SIZE: 40122354
BYTE_COUNT: 5289
