FILENAME: O4810420.SES.1163064.tif
QUADRANGLE_NAME: SHIPPE CANYON
QUADRANT: SE
WEST_LONGITUDE: -104 33 45.00000
EAST_LONGITUDE: -104 30 0.00000
NORTH_LATITUDE: 48 41 15.00000
SOUTH_LATITUDE: 48 37 30.00000
PRODUCTION_DATE: 2001 9 27
RASTER_ORDER: LEFT_RIGHT/TOP_BOTTOM
BAND_ORGANIZATION: SINGLE FILE
BAND_CONTENT: BLACK&WHITE
BAND_CONTENT: UNDEFINED
BAND_CONTENT: UNDEFINED
BITS_PER_PIXEL: 8
SAMPLES_AND_LINES: 5294 7589
HORIZONTAL_DATUM: NAD83
HORIZONTAL_COORDINATE_SYSTEM: UTM
COORDINATE_ZONE: 13
HORIZONTAL_UNITS: meters
HORIZONTAL_RESOLUTION: 1.00000
SECONDARY_HORIZONTAL_DATUM: NAD27
XY_ORIGIN: 531856.00000 5393146.00000
SECONDARY_XY_ORIGIN: 531894.79000 5392924.21500
NATION: US
STATE: MT
NW_QUAD_CORNER_XY: 532199.52900 5392809.92500
NE_QUAD_CORNER_XY: 536799.44800 5392838.19200
SE_QUAD_CORNERY_XY: 536844.96600 5385890.81400
SW_QUAD_CORNER_XY: 532239.35700 5385862.53800
SECONDARY_NW_QUAD_XY: 532200.55700 5392590.93500
SECONDARY_NE_QUAD_XY: 536800.62300 5392619.20300
SECONDARY_SE_QUAD_XY: 536846.14000 5385671.83100
SECONDARY_SW_QUAD_XY: 532240.38500 5385643.55400
RMSE_XY: 4.92000
IMAGE_SOURCE: BLACK AND WHITE FILM
SOURCE_IMAGE_ID: NAPP 9082-092
SOURCE_IMAGE_DATE: 1996 6 12
SOURCE_DEM_DATE: 1998 0 0
AGENCY: WESTERN MAPPING CENTER (WMC)
PRODUCER: WOOLPERT LLP
PRODUCTION_SYSTEM: INTERGRAPH ISPM, ISIR
COMPRESSION: UNDEFINED
STANDARD_VERSION: 1996 12
METADATA_DATE: 2001 9 27
DATA_FILE_SIZE: 40181460
BYTE_COUNT: 5294
