FILENAME: O4810421.NWS.1163478.tif
QUADRANGLE_NAME: ANTELOPE
QUADRANT: NW
WEST_LONGITUDE: -104 30 0.00000
EAST_LONGITUDE: -104 26 15.00000
NORTH_LATITUDE: 48 45 0.00000
SOUTH_LATITUDE: 48 41 15.00000
PRODUCTION_DATE: 2001 10 7
RASTER_ORDER: LEFT_RIGHT/TOP_BOTTOM
BAND_ORGANIZATION: SINGLE FILE
BAND_CONTENT: BLACK&WHITE
BAND_CONTENT: UNDEFINED
BAND_CONTENT: UNDEFINED
BITS_PER_PIXEL: 8
SAMPLES_AND_LINES: 5294 7593
HORIZONTAL_DATUM: NAD83
HORIZONTAL_COORDINATE_SYSTEM: UTM
COORDINATE_ZONE: 13
HORIZONTAL_UNITS: meters
HORIZONTAL_RESOLUTION: 1.00000
SECONDARY_HORIZONTAL_DATUM: NAD27
XY_ORIGIN: 536411.00000 5400126.00000
SECONDARY_XY_ORIGIN: 536449.72100 5399904.12400
NATION: US
STATE: MT
NW_QUAD_CORNER_XY: 536753.88600 5399785.64600
NE_QUAD_CORNER_XY: 541348.10400 5399817.67400
SE_QUAD_CORNERY_XY: 541399.36100 5392870.22900
SW_QUAD_CORNER_XY: 536799.44800 5392838.19200
SECONDARY_NW_QUAD_XY: 536755.06100 5399566.65200
SECONDARY_NE_QUAD_XY: 541349.42500 5399598.68100
SECONDARY_SE_QUAD_XY: 541400.68300 5392651.24100
SECONDARY_SW_QUAD_XY: 536800.62300 5392619.20300
RMSE_XY: 2.86000
IMAGE_SOURCE: BLACK AND WHITE FILM
SOURCE_IMAGE_ID: NAPP 9083-019
SOURCE_IMAGE_DATE: 1996 6 12
SOURCE_DEM_DATE: 1998 0 0
AGENCY: WESTERN MAPPING CENTER (WMC)
PRODUCER: WOOLPERT LLP
PRODUCTION_SYSTEM: INTERGRAPH ISPM, ISIR
COMPRESSION: UNDEFINED
STANDARD_VERSION: 1996 12
METADATA_DATE: 2001 10 7
DATA_FILE_SIZE: 40202636
BYTE_COUNT: 5294
