FILENAME: O4810422.SES.1163491.tif
QUADRANGLE_NAME: RESERVE NE
QUADRANT: SE
WEST_LONGITUDE: -104 18 45.00000
EAST_LONGITUDE: -104 15 0.00000
NORTH_LATITUDE: 48 41 15.00000
SOUTH_LATITUDE: 48 37 30.00000
PRODUCTION_DATE: 2001 10 7
RASTER_ORDER: LEFT_RIGHT/TOP_BOTTOM
BAND_ORGANIZATION: SINGLE FILE
BAND_CONTENT: BLACK&WHITE
BAND_CONTENT: UNDEFINED
BAND_CONTENT: UNDEFINED
BITS_PER_PIXEL: 8
SAMPLES_AND_LINES: 5316 7604
HORIZONTAL_DATUM: NAD83
HORIZONTAL_COORDINATE_SYSTEM: UTM
COORDINATE_ZONE: 13
HORIZONTAL_UNITS: meters
HORIZONTAL_RESOLUTION: 1.00000
SECONDARY_HORIZONTAL_DATUM: NAD27
XY_ORIGIN: 550257.00000 5393297.00000
SECONDARY_XY_ORIGIN: 550295.58700 5393075.37500
NATION: US
STATE: MT
NW_QUAD_CORNER_XY: 550599.16800 5392945.61000
NE_QUAD_CORNER_XY: 555199.06100 5392988.95500
SE_QUAD_CORNERY_XY: 555267.33900 5386041.61800
SW_QUAD_CORNER_XY: 550661.75600 5385998.26100
SECONDARY_NW_QUAD_XY: 550600.78300 5392726.62500
SECONDARY_NE_QUAD_XY: 555200.82300 5392769.97100
SECONDARY_SE_QUAD_XY: 555269.10100 5385822.64000
SECONDARY_SW_QUAD_XY: 550663.37100 5385779.28200
RMSE_XY: 2.57000
IMAGE_SOURCE: BLACK AND WHITE FILM
SOURCE_IMAGE_ID: NAPP 9124-092
SOURCE_IMAGE_DATE: 1997 8 22
SOURCE_DEM_DATE: 1998 0 0
AGENCY: WESTERN MAPPING CENTER (WMC)
PRODUCER: WOOLPERT LLP
PRODUCTION_SYSTEM: INTERGRAPH ISPM, ISIR
COMPRESSION: UNDEFINED
STANDARD_VERSION: 1996 12
METADATA_DATE: 2001 10 7
DATA_FILE_SIZE: 40428180
BYTE_COUNT: 5316
