FILENAME: O4810422.NWS.1163490.tif
QUADRANGLE_NAME: RESERVE NE
QUADRANT: NW
WEST_LONGITUDE: -104 22 30.00000
EAST_LONGITUDE: -104 18 45.00000
NORTH_LATITUDE: 48 45 0.00000
SOUTH_LATITUDE: 48 41 15.00000
PRODUCTION_DATE: 2001 10 7
RASTER_ORDER: LEFT_RIGHT/TOP_BOTTOM
BAND_ORGANIZATION: SINGLE FILE
BAND_CONTENT: BLACK&WHITE
BAND_CONTENT: UNDEFINED
BAND_CONTENT: UNDEFINED
BITS_PER_PIXEL: 8
SAMPLES_AND_LINES: 5305 7600
HORIZONTAL_DATUM: NAD83
HORIZONTAL_COORDINATE_SYSTEM: UTM
COORDINATE_ZONE: 13
HORIZONTAL_UNITS: meters
HORIZONTAL_RESOLUTION: 1.00000
SECONDARY_HORIZONTAL_DATUM: NAD27
XY_ORIGIN: 545600.00000 5400201.00000
SECONDARY_XY_ORIGIN: 545638.59700 5399979.24500
NATION: US
STATE: MT
NW_QUAD_CORNER_XY: 545942.31500 5399853.47000
NE_QUAD_CORNER_XY: 550536.52000 5399893.03400
SE_QUAD_CORNERY_XY: 550599.16800 5392945.61000
SW_QUAD_CORNER_XY: 545999.26800 5392906.03500
SECONDARY_NW_QUAD_XY: 545943.78300 5399634.47800
SECONDARY_NE_QUAD_XY: 550538.13500 5399674.04300
SECONDARY_SE_QUAD_XY: 550600.78300 5392726.62500
SECONDARY_SW_QUAD_XY: 546000.73600 5392687.04800
RMSE_XY: 2.15000
IMAGE_SOURCE: BLACK AND WHITE FILM
SOURCE_IMAGE_ID: NAPP 9095-112
SOURCE_IMAGE_DATE: 1996 7 9
SOURCE_DEM_DATE: 1998 0 0
AGENCY: WESTERN MAPPING CENTER (WMC)
PRODUCER: WOOLPERT LLP
PRODUCTION_SYSTEM: INTERGRAPH ISPM, ISIR
COMPRESSION: UNDEFINED
STANDARD_VERSION: 1996 12
METADATA_DATE: 2001 10 7
DATA_FILE_SIZE: 40323305
BYTE_COUNT: 5305
