FILENAME: O4810423.SWS.1163504.tif
QUADRANGLE_NAME: COALRIDGE
QUADRANT: SW
WEST_LONGITUDE: -104 15 0.00000
EAST_LONGITUDE: -104 11 15.00000
NORTH_LATITUDE: 48 41 15.00000
SOUTH_LATITUDE: 48 37 30.00000
PRODUCTION_DATE: 2001 10 7
RASTER_ORDER: LEFT_RIGHT/TOP_BOTTOM
BAND_ORGANIZATION: SINGLE FILE
BAND_CONTENT: BLACK&WHITE
BAND_CONTENT: UNDEFINED
BAND_CONTENT: UNDEFINED
BITS_PER_PIXEL: 8
SAMPLES_AND_LINES: 5321 7608
HORIZONTAL_DATUM: NAD83
HORIZONTAL_COORDINATE_SYSTEM: UTM
COORDINATE_ZONE: 13
HORIZONTAL_UNITS: meters
HORIZONTAL_RESOLUTION: 1.00000
SECONDARY_HORIZONTAL_DATUM: NAD27
XY_ORIGIN: 554857.00000 5393344.00000
SECONDARY_XY_ORIGIN: 554895.52700 5393122.42900
NATION: US
STATE: MT
NW_QUAD_CORNER_XY: 555199.06100 5392988.95500
NE_QUAD_CORNER_XY: 559798.94500 5393036.06900
SE_QUAD_CORNERY_XY: 559872.91400 5386088.74500
SW_QUAD_CORNER_XY: 555267.33900 5386041.61800
SECONDARY_NW_QUAD_XY: 555200.82300 5392769.97100
SECONDARY_NE_QUAD_XY: 559800.85300 5392817.08600
SECONDARY_SE_QUAD_XY: 559874.82200 5385869.76800
SECONDARY_SW_QUAD_XY: 555269.10100 5385822.64000
RMSE_XY: 3.44000
IMAGE_SOURCE: BLACK AND WHITE FILM
SOURCE_IMAGE_ID: NAPP 9123-178
SOURCE_IMAGE_DATE: 1997 8 3
SOURCE_DEM_DATE: 1998 0 0
AGENCY: WESTERN MAPPING CENTER (WMC)
PRODUCER: WOOLPERT LLP
PRODUCTION_SYSTEM: INTERGRAPH ISPM, ISIR
COMPRESSION: UNDEFINED
STANDARD_VERSION: 1996 12
METADATA_DATE: 2001 10 7
DATA_FILE_SIZE: 40487489
BYTE_COUNT: 5321
