FILENAME: O4810425.SES.1163068.tif
QUADRANGLE_NAME: SOO
QUADRANT: SE
WEST_LONGITUDE: -104 56 15.00000
EAST_LONGITUDE: -104 52 30.00000
NORTH_LATITUDE: 48 33 45.00000
SOUTH_LATITUDE: 48 30 0.00000
PRODUCTION_DATE: 2001 9 27
RASTER_ORDER: LEFT_RIGHT/TOP_BOTTOM
BAND_ORGANIZATION: SINGLE FILE
BAND_CONTENT: BLACK&WHITE
BAND_CONTENT: UNDEFINED
BAND_CONTENT: UNDEFINED
BITS_PER_PIXEL: 8
SAMPLES_AND_LINES: 5272 7567
HORIZONTAL_DATUM: NAD83
HORIZONTAL_COORDINATE_SYSTEM: UTM
COORDINATE_ZONE: 13
HORIZONTAL_UNITS: meters
HORIZONTAL_RESOLUTION: 1.00000
SECONDARY_HORIZONTAL_DATUM: NAD27
XY_ORIGIN: 504267.00000 5379139.00000
SECONDARY_XY_ORIGIN: 504306.03600 5378917.39200
NATION: US
STATE: MT
NW_QUAD_CORNER_XY: 504611.31200 5378824.72300
NE_QUAD_CORNER_XY: 509222.62300 5378830.37900
SE_QUAD_CORNERY_XY: 509233.98000 5371883.12100
SW_QUAD_CORNER_XY: 504616.99100 5371877.46300
SECONDARY_NW_QUAD_XY: 504611.45900 5378605.74200
SECONDARY_NE_QUAD_XY: 509222.91700 5378611.39900
SECONDARY_SE_QUAD_XY: 509234.27400 5371664.14800
SECONDARY_SW_QUAD_XY: 504617.13700 5371658.49000
RMSE_XY: 2.61000
IMAGE_SOURCE: BLACK AND WHITE FILM
SOURCE_IMAGE_ID: NAPP 9081-198
SOURCE_IMAGE_DATE: 1996 6 12
SOURCE_DEM_DATE: 1998 0 0
AGENCY: WESTERN MAPPING CENTER (WMC)
PRODUCER: WOOLPERT LLP
PRODUCTION_SYSTEM: INTERGRAPH ISPM, ISIR
COMPRESSION: UNDEFINED
STANDARD_VERSION: 1996 12
METADATA_DATE: 2001 10 1
DATA_FILE_SIZE: 39898496
BYTE_COUNT: 5272
