FILENAME: O4810425.NES.1163066.tif
QUADRANGLE_NAME: SOO
QUADRANT: NE
WEST_LONGITUDE: -104 56 15.00000
EAST_LONGITUDE: -104 52 30.00000
NORTH_LATITUDE: 48 37 30.00000
SOUTH_LATITUDE: 48 33 45.00000
PRODUCTION_DATE: 2001 9 27
RASTER_ORDER: LEFT_RIGHT/TOP_BOTTOM
BAND_ORGANIZATION: SINGLE FILE
BAND_CONTENT: BLACK&WHITE
BAND_CONTENT: UNDEFINED
BAND_CONTENT: UNDEFINED
BITS_PER_PIXEL: 8
SAMPLES_AND_LINES: 5267 7567
HORIZONTAL_DATUM: NAD83
HORIZONTAL_COORDINATE_SYSTEM: UTM
COORDINATE_ZONE: 13
HORIZONTAL_UNITS: meters
HORIZONTAL_RESOLUTION: 1.00000
SECONDARY_HORIZONTAL_DATUM: NAD27
XY_ORIGIN: 504261.00000 5386086.00000
SECONDARY_XY_ORIGIN: 504300.00000 5385864.30800
NATION: US
STATE: MT
NW_QUAD_CORNER_XY: 504605.62800 5385772.05800
NE_QUAD_CORNER_XY: 509211.25500 5385777.71300
SE_QUAD_CORNERY_XY: 509222.62300 5378830.37900
SW_QUAD_CORNER_XY: 504611.31200 5378824.72300
SECONDARY_NW_QUAD_XY: 504605.77500 5385553.07100
SECONDARY_NE_QUAD_XY: 509211.54900 5385558.72600
SECONDARY_SE_QUAD_XY: 509222.91700 5378611.39900
SECONDARY_SW_QUAD_XY: 504611.45900 5378605.74200
RMSE_XY: 3.59000
IMAGE_SOURCE: BLACK AND WHITE FILM
SOURCE_IMAGE_ID: NAPP 9081-200
SOURCE_IMAGE_DATE: 1996 6 12
SOURCE_DEM_DATE: 1998 0 0
AGENCY: WESTERN MAPPING CENTER (WMC)
PRODUCER: WOOLPERT LLP
PRODUCTION_SYSTEM: INTERGRAPH ISPM, ISIR
COMPRESSION: UNDEFINED
STANDARD_VERSION: 1996 12
METADATA_DATE: 2001 9 27
DATA_FILE_SIZE: 39860656
BYTE_COUNT: 5267
