FILENAME: O4810426.SWS.1163081.tif
QUADRANGLE_NAME: THORNWOOD RANCH
QUADRANT: SW
WEST_LONGITUDE: -104 52 30.00000
EAST_LONGITUDE: -104 48 45.00000
NORTH_LATITUDE: 48 33 45.00000
SOUTH_LATITUDE: 48 30 0.00000
PRODUCTION_DATE: 2001 9 22
RASTER_ORDER: LEFT_RIGHT/TOP_BOTTOM
BAND_ORGANIZATION: SINGLE FILE
BAND_CONTENT: BLACK&WHITE
BAND_CONTENT: UNDEFINED
BAND_CONTENT: UNDEFINED
BITS_PER_PIXEL: 8
SAMPLES_AND_LINES: 5278 7570
HORIZONTAL_DATUM: NAD83
HORIZONTAL_COORDINATE_SYSTEM: UTM
COORDINATE_ZONE: 13
HORIZONTAL_UNITS: meters
HORIZONTAL_RESOLUTION: 1.00000
SECONDARY_HORIZONTAL_DATUM: NAD27
XY_ORIGIN: 508878.00000 5379148.00000
SECONDARY_XY_ORIGIN: 508917.00800 5378926.39300
NATION: US
STATE: MT
NW_QUAD_CORNER_XY: 509222.62300 5378830.37900
NE_QUAD_CORNER_XY: 513833.93300 5378839.80700
SE_QUAD_CORNERY_XY: 513850.96900 5371892.55100
SW_QUAD_CORNER_XY: 509233.98000 5371883.12100
SECONDARY_NW_QUAD_XY: 509222.91700 5378611.39900
SECONDARY_NE_QUAD_XY: 513834.37400 5378620.82700
SECONDARY_SE_QUAD_XY: 513851.40900 5371673.57900
SECONDARY_SW_QUAD_XY: 509234.27400 5371664.14800
RMSE_XY: 3.64000
IMAGE_SOURCE: BLACK AND WHITE FILM
SOURCE_IMAGE_ID: NAPP 9081-103
SOURCE_IMAGE_DATE: 1996 6 12
SOURCE_DEM_DATE: 1998 0 0
AGENCY: WESTERN MAPPING CENTER (WMC)
PRODUCER: WOOLPERT LLP
PRODUCTION_SYSTEM: INTERGRAPH ISPM, ISIR
COMPRESSION: UNDEFINED
STANDARD_VERSION: 1996 12
METADATA_DATE: 2001 9 23
DATA_FILE_SIZE: 39959738
BYTE_COUNT: 5278
