FILENAME: O4810427.SWS.1163093.tif
QUADRANGLE_NAME: FLAGSTAFF HILL
QUADRANT: SW
WEST_LONGITUDE: -104 45 0.00000
EAST_LONGITUDE: -104 41 15.00000
NORTH_LATITUDE: 48 33 45.00000
SOUTH_LATITUDE: 48 30 0.00000
PRODUCTION_DATE: 2001 9 22
RASTER_ORDER: LEFT_RIGHT/TOP_BOTTOM
BAND_ORGANIZATION: SINGLE FILE
BAND_CONTENT: BLACK&WHITE
BAND_CONTENT: UNDEFINED
BAND_CONTENT: UNDEFINED
BITS_PER_PIXEL: 8
SAMPLES_AND_LINES: 5289 7578
HORIZONTAL_DATUM: NAD83
HORIZONTAL_COORDINATE_SYSTEM: UTM
COORDINATE_ZONE: 13
HORIZONTAL_UNITS: meters
HORIZONTAL_RESOLUTION: 1.00000
SECONDARY_HORIZONTAL_DATUM: NAD27
XY_ORIGIN: 518101.00000 5379178.00000
SECONDARY_XY_ORIGIN: 518139.95200 5378956.39400
NATION: US
STATE: MT
NW_QUAD_CORNER_XY: 518445.24100 5378853.00500
NE_QUAD_CORNER_XY: 523056.54600 5378869.97500
SE_QUAD_CORNERY_XY: 523084.93900 5371922.72700
SW_QUAD_CORNER_XY: 518467.95500 5371905.75300
SECONDARY_NW_QUAD_XY: 518445.82800 5378634.02600
SECONDARY_NE_QUAD_XY: 523057.28000 5378650.99600
SECONDARY_SE_QUAD_XY: 523085.67300 5371703.75600
SECONDARY_SW_QUAD_XY: 518468.54300 5371686.78100
RMSE_XY: 4.42000
IMAGE_SOURCE: BLACK AND WHITE FILM
SOURCE_IMAGE_ID: NAPP 9080-147
SOURCE_IMAGE_DATE: 1996 6 12
SOURCE_DEM_DATE: 1998 0 0
AGENCY: WESTERN MAPPING CENTER (WMC)
PRODUCER: WOOLPERT LLP
PRODUCTION_SYSTEM: INTERGRAPH ISPM, ISIR
COMPRESSION: UNDEFINED
STANDARD_VERSION: 1996 12
METADATA_DATE: 2001 9 22
DATA_FILE_SIZE: 40085331
BYTE_COUNT: 5289
