FILENAME: O4810427.NES.1163090.tif
QUADRANGLE_NAME: FLAGSTAFF HILL
QUADRANT: NE
WEST_LONGITUDE: -104 41 15.00000
EAST_LONGITUDE: -104 37 30.00000
NORTH_LATITUDE: 48 37 30.00000
SOUTH_LATITUDE: 48 33 45.00000
PRODUCTION_DATE: 2001 9 22
RASTER_ORDER: LEFT_RIGHT/TOP_BOTTOM
BAND_ORGANIZATION: SINGLE FILE
BAND_CONTENT: BLACK&WHITE
BAND_CONTENT: UNDEFINED
BAND_CONTENT: UNDEFINED
BITS_PER_PIXEL: 8
SAMPLES_AND_LINES: 5289 7582
HORIZONTAL_DATUM: NAD83
HORIZONTAL_COORDINATE_SYSTEM: UTM
COORDINATE_ZONE: 13
HORIZONTAL_UNITS: meters
HORIZONTAL_RESOLUTION: 1.00000
SECONDARY_HORIZONTAL_DATUM: NAD27
XY_ORIGIN: 522684.00000 5386146.00000
SECONDARY_XY_ORIGIN: 522722.88600 5385924.30500
NATION: US
STATE: MT
NW_QUAD_CORNER_XY: 523028.12600 5385817.29800
NE_QUAD_CORNER_XY: 527633.74400 5385838.03300
SE_QUAD_CORNERY_XY: 527667.84800 5378890.71600
SW_QUAD_CORNER_XY: 523056.54600 5378869.97500
SECONDARY_NW_QUAD_XY: 523028.86000 5385598.31300
SECONDARY_NE_QUAD_XY: 527634.62400 5385619.04800
SECONDARY_SE_QUAD_XY: 527668.72900 5378671.73700
SECONDARY_SW_QUAD_XY: 523057.28000 5378650.99600
RMSE_XY: 3.85000
IMAGE_SOURCE: BLACK AND WHITE FILM
SOURCE_IMAGE_ID: NAPP 9080-116
SOURCE_IMAGE_DATE: 1996 6 12
SOURCE_DEM_DATE: 1998 0 0
AGENCY: WESTERN MAPPING CENTER (WMC)
PRODUCER: WOOLPERT LLP
PRODUCTION_SYSTEM: INTERGRAPH ISPM, ISIR
COMPRESSION: UNDEFINED
STANDARD_VERSION: 1996 12
METADATA_DATE: 2001 9 22
DATA_FILE_SIZE: 40106487
BYTE_COUNT: 5289
