FILENAME: O4810428.NES.1163102.tif
QUADRANGLE_NAME: ALKALI COULEE
QUADRANT: NE
WEST_LONGITUDE: -104 33 45.00000
EAST_LONGITUDE: -104 30 0.00000
NORTH_LATITUDE: 48 37 30.00000
SOUTH_LATITUDE: 48 33 45.00000
PRODUCTION_DATE: 2001 9 22
RASTER_ORDER: LEFT_RIGHT/TOP_BOTTOM
BAND_ORGANIZATION: SINGLE FILE
BAND_CONTENT: BLACK&WHITE
BAND_CONTENT: UNDEFINED
BAND_CONTENT: UNDEFINED
BITS_PER_PIXEL: 8
SAMPLES_AND_LINES: 5300 7589
HORIZONTAL_DATUM: NAD83
HORIZONTAL_COORDINATE_SYSTEM: UTM
COORDINATE_ZONE: 13
HORIZONTAL_UNITS: meters
HORIZONTAL_RESOLUTION: 1.00000
SECONDARY_HORIZONTAL_DATUM: NAD27
XY_ORIGIN: 531896.00000 5386199.00000
SECONDARY_XY_ORIGIN: 531934.83100 5385977.31100
NATION: US
STATE: MT
NW_QUAD_CORNER_XY: 532239.35700 5385862.53800
NE_QUAD_CORNER_XY: 536844.96600 5385890.81400
SE_QUAD_CORNERY_XY: 536890.43900 5378943.51000
SW_QUAD_CORNER_XY: 532279.14600 5378915.22700
SECONDARY_NW_QUAD_XY: 532240.38500 5385643.55400
SECONDARY_NE_QUAD_XY: 536846.14000 5385671.83100
SECONDARY_SE_QUAD_XY: 536891.61400 5378724.53400
SECONDARY_SW_QUAD_XY: 532280.17400 5378696.25000
RMSE_XY: 4.26000
IMAGE_SOURCE: BLACK AND WHITE FILM
SOURCE_IMAGE_ID: NAPP 9082-090
SOURCE_IMAGE_DATE: 1996 6 12
SOURCE_DEM_DATE: 1998 0 0
AGENCY: WESTERN MAPPING CENTER (WMC)
PRODUCER: WOOLPERT LLP
PRODUCTION_SYSTEM: INTERGRAPH ISPM, ISIR
COMPRESSION: UNDEFINED
STANDARD_VERSION: 1996 12
METADATA_DATE: 2001 9 22
DATA_FILE_SIZE: 40227000
BYTE_COUNT: 5300
