FILENAME: O4810429.SES.1163513.tif
QUADRANGLE_NAME: RESERVE
QUADRANT: SE
WEST_LONGITUDE: -104 26 15.00000
EAST_LONGITUDE: -104 22 30.00000
NORTH_LATITUDE: 48 33 45.00000
SOUTH_LATITUDE: 48 30 0.00000
PRODUCTION_DATE: 2001 10 7
RASTER_ORDER: LEFT_RIGHT/TOP_BOTTOM
BAND_ORGANIZATION: SINGLE FILE
BAND_CONTENT: BLACK&WHITE
BAND_CONTENT: UNDEFINED
BAND_CONTENT: UNDEFINED
BITS_PER_PIXEL: 8
SAMPLES_AND_LINES: 5316 7596
HORIZONTAL_DATUM: NAD83
HORIZONTAL_COORDINATE_SYSTEM: UTM
COORDINATE_ZONE: 13
HORIZONTAL_UNITS: meters
HORIZONTAL_RESOLUTION: 1.00000
SECONDARY_HORIZONTAL_DATUM: NAD27
XY_ORIGIN: 541159.00000 5379319.00000
SECONDARY_XY_ORIGIN: 541197.79400 5379097.45200
NATION: US
STATE: MT
NW_QUAD_CORNER_XY: 541501.72700 5378975.56500
NE_QUAD_CORNER_XY: 546113.00900 5379011.39000
SE_QUAD_CORNERY_XY: 546169.79600 5372064.18000
SW_QUAD_CORNER_XY: 541552.83500 5372028.34500
SECONDARY_NW_QUAD_XY: 541503.04800 5378756.58900
SECONDARY_NE_QUAD_XY: 546114.47700 5378792.41600
SECONDARY_SE_QUAD_XY: 546171.26400 5371845.21400
SECONDARY_SW_QUAD_XY: 541554.15600 5371809.37700
RMSE_XY: 2.65000
IMAGE_SOURCE: BLACK AND WHITE FILM
SOURCE_IMAGE_ID: NAPP 9103-066
SOURCE_IMAGE_DATE: 1996 7 15
SOURCE_DEM_DATE: 1998 0 0
AGENCY: WESTERN MAPPING CENTER (WMC)
PRODUCER: WOOLPERT LLP
PRODUCTION_SYSTEM: INTERGRAPH ISPM, ISIR
COMPRESSION: UNDEFINED
STANDARD_VERSION: 1996 12
METADATA_DATE: 2001 10 7
DATA_FILE_SIZE: 40385652
BYTE_COUNT: 5316
