FILENAME: O4810430.SES.1163525.tif
QUADRANGLE_NAME: RESERVE SE
QUADRANT: SE
WEST_LONGITUDE: -104 18 45.00000
EAST_LONGITUDE: -104 15 0.00000
NORTH_LATITUDE: 48 33 45.00000
SOUTH_LATITUDE: 48 30 0.00000
PRODUCTION_DATE: 2001 10 7
RASTER_ORDER: LEFT_RIGHT/TOP_BOTTOM
BAND_ORGANIZATION: SINGLE FILE
BAND_CONTENT: BLACK&WHITE
BAND_CONTENT: UNDEFINED
BAND_CONTENT: UNDEFINED
BITS_PER_PIXEL: 8
SAMPLES_AND_LINES: 5327 7604
HORIZONTAL_DATUM: NAD83
HORIZONTAL_COORDINATE_SYSTEM: UTM
COORDINATE_ZONE: 13
HORIZONTAL_UNITS: meters
HORIZONTAL_RESOLUTION: 1.00000
SECONDARY_HORIZONTAL_DATUM: NAD27
XY_ORIGIN: 550382.00000 5379402.00000
SECONDARY_XY_ORIGIN: 550420.69200 5379180.52700
NATION: US
STATE: MT
NW_QUAD_CORNER_XY: 550724.28400 5379050.98700
NE_QUAD_CORNER_XY: 555335.55100 5379094.35600
SE_QUAD_CORNERY_XY: 555403.69700 5372147.16800
SW_QUAD_CORNER_XY: 550786.75000 5372103.78800
SECONDARY_NW_QUAD_XY: 550725.89800 5378832.01400
SECONDARY_NE_QUAD_XY: 555337.31300 5378875.38400
SECONDARY_SE_QUAD_XY: 555405.45800 5371928.20400
SECONDARY_SW_QUAD_XY: 550788.36500 5371884.82200
RMSE_XY: 3.27000
IMAGE_SOURCE: BLACK AND WHITE FILM
SOURCE_IMAGE_ID: NAPP 9124-088
SOURCE_IMAGE_DATE: 1997 8 22
SOURCE_DEM_DATE: 1998 0 0
AGENCY: WESTERN MAPPING CENTER (WMC)
PRODUCER: WOOLPERT LLP
PRODUCTION_SYSTEM: INTERGRAPH ISPM, ISIR
COMPRESSION: UNDEFINED
STANDARD_VERSION: 1996 12
METADATA_DATE: 2001 10 7
DATA_FILE_SIZE: 40511835
BYTE_COUNT: 5327
